Workbook

Sheet 共同生活援助
A1: 障害者総合支援法によるサービス体系 | E1: 共同生活援助 | M1: 令和８年９月１日現在
A3: 圏域名 | B3: 事業所番号 | C3: 事業所名 | D3: 住所 | E3: 電話番号 | G3: 在籍 | J3: 待機者数 | M3: 利用可能者数 | P3: 備考
F4: 定員 | G4: 初日在籍 | H4: 男 | I4: 女 | J4: 男 | K4: 女 | L4: 計 | M4: 男 | N4: 女 | O4: 計
A5: 備前圏域 | B5: 3320100062 | C5: 愛育寮 地域生活ホーム | D5: 岡山市北区祇園８６６ | E5: 086-275-4644 | F5: 20 | G5: 18 | H5: 7 | I5: 11 | J5: 0 | K5: 0 | L5: 0 | M5: 0 | N5: 0 | O5: 0 | R5: 5
B6: 3320100575 | C6: あおえ Hopeful | D6: 岡山市北区青江3丁目1番9号 | E6: 086-224-7305 | F6: 10 | G6: 10 | H6: 2 | I6: 8 | J6: 0 | K6: 0 | L6: 0 | O6: 0 | R6: 1
B7: 3320100039 | C7: いづみ寮 地域生活ホーム | D7: 岡山市北区中原６６４－１先 | E7: 086-275-1816 | F7: 30 | G7: 28 | H7: 17 | I7: 11 | J7: 0 | K7: 0 | L7: 0 | M7: 1 | N7: 1 | O7: 2 | R7: 16
B8: 3320100807 | C8: ヴィレッジそうらい | D8: 岡山県岡山市北区平野655-79 | E8: 086-239-6519 | F8: 8 | M8: 5 | N8: 3 | O8: 8
B9: 3320100427 | C9: おうちだ | D9: 岡山市北区撫川848 | E9: 086-238-1802 | F9: 20 | G9: 20 | H9: 12 | I9: 8 | J9: 15 | K9: 7 | L9: 22 | M9: 0 | N9: 0 | O9: 0 | R9: 21
B10: 3320100070 | C10: ぎおんハイツ 地域生活ホーム | D10: 岡山市北区中原６６４－１先 | E10: 086-275-9701 | F10: 24 | G10: 23 | H10: 15 | I10: 8 | J10: 0 | K10: 0 | L10: 0 | M10: 1 | N10: 0 | O10: 1 | R10: 17
B11: 3320100187 | C11: 吉備地域生活ホーム | D11: 岡山市北区祇園８６６ | E11: 086-275-2486 | F11: 6 | G11: 6 | H11: 4 | I11: 2 | J11: 0 | K11: 1 | L11: 1 | M11: 0 | N11: 0 | O11: 0 | R11: 6
B12: 3320100286 | C12: グリーンハーツ | D12: 岡山市北区表町3-7-5 | E12: 086-953-4446 | F12: 10 | G12: 10 | H12: 4 | I12: 6 | J12: 2 | K12: 2 | L12: 4 | M12: - | N12: - | O12: 0 | R12: 19
B13: 3320100815 | C13: ぐるーぷほーむ あいりずむ | D13: 岡山県岡山市北区高松265-1 | E13: 086-250-4050 | F13: 7
B14: 3320100450 | C14: グループホーム リーフ | D14: 岡山市北区牟佐942番地6 | E14: 086-289-6172 | F14: 4 | G14: 4 | H14: 0 | I14: 4 | J14: 0 | K14: 0 | L14: 0 | M14: 0 | N14: 0 | O14: 0 | R14: 26
B15: 3320100047 | C15: グループホーム 一二三 | D15: 岡山市北区富町2丁目16-2 | E15: 086-255-1585 | F15: 21 | G15: 15 | H15: 7 | I15: 8 | J15: 0 | K15: 0 | L15: 0 | M15: 2 | N15: 4 | O15: 6 | R15: 20
B16: 3320100401 | C16: グループホームＩＲＯＨＡ | D16: 岡山市北区野田2丁目6-11 | E16: 086-245-0168 | F16: 8 | G16: 7 | H16: 7 | I16: 0 | J16: 0 | K16: 0 | L16: 0 | M16: 1 | N16: 0 | O16: 1 | R16: 27
B17: 3320100245 | C17: グループホームつどい | D17: 岡山市北区中井町1丁目5番40 | E17: 086-289-5092 | F17: 16 | G17: 15 | H17: 15 | I17: 0 | J17: 0 | K17: 0 | L17: 0 | M17: 1 | N17: 0 | O17: 1 | R17: 14
B18: 3320800026 | C18: グループホーム事業所「ももぞの」 | D18: 岡山市北区足守１６８５－１－１０１ | E18: 086-295-0632 | F18: 56 | G18: 52 | H18: 27 | I18: 25 | J18: 5 | K18: 5 | L18: 10 | M18: 2 | N18: 1 | O18: 3 | R18: 11
B19: 3320100641 | C19: 恵生会みなんの家 | D19: 岡山市北区田中185-103 ハピネス田中301号401号 | E19: 086-241-1212 | F19: 4 | G19: 5 | H19: 0 | I19: 5 | J19: 0 | K19: 0 | L19: 0 | M19: 1 | N19: 1 | O19: 2 | R19: 22
B20: 3320100666 | C20: さうざんど | D20: 岡山市北区津高1507－194 | E20: 086-244-0888 | F20: 14 | G20: 8 | H20: 8 | I20: 0 | J20: 0 | K20: 0 | L20: 0 | M20: 11 | N20: 0 | O20: 5 | P20: (2名利用の２室を含む） | R20: 8
B21: 3320100617 | C21: スターホームOKAYAMA | D21: 岡山市北区牟佐804 | E21: 086-229-3370 | F21: 20 | G21: 9 | H21: 6 | I21: 3 | J21: 2 | K21: 2 | L21: 4 | M21: 2 | N21: 5 | O21: 7 | R21: 25
B22: 3320100781 | C22: スマイルテラス | D22: 岡山県岡山市北区舟橋町5-23 | E22: 086-206-2517 | F22: 6 | G22: 5 | H22: 2 | I22: 3 | J22: 0 | K22: 1 | L22: 1 | O22: 1 | R22: 66
B23: 3320100153 | C23: 生活支援ホームだいく | D23: 岡山市北区大供１－２－２５ | E23: 086-235-2808 | F23: 44 | G23: 40 | H23: 23 | I23: 17 | J23: 0 | K23: 0 | L23: 0 | M23: 0 | N23: 0 | O23: 0 | R23: 12
B24: 3320100682 | C24: ソーシャルインクルーホーム岡山門前 | D24: 岡山市北区門前302-1 | E24: 086-287-8711 | F24: 20 | G24: 20 | H24: 10 | I24: 10 | J24: 5 | K24: 5 | L24: 10 | M24: 0 | N24: 0 | O24: 0 | R24: 4
B25: 3320100658 | C25: ソーシャルインクルーホーム岡山建部町 | D25: 岡山市北区建部町中田340-2 | E25: 086-722-5575 | F25: 20 | G25: 17 | H25: 9 | I25: 8 | J25: 1 | K25: 1 | L25: 2 | M25: 1 | N25: 2 | O25: 3 | R25: 7
B26: 3320100690 | C26: ソーシャルインクルーホーム岡山今保 | D26: 岡山市北区今保652-1 | E26: 086-245-2800 | F26: 20 | G26: 17 | H26: 10 | I26: 7 | J26: 1 | K26: 1 | L26: 2 | M26: 0 | N26: 3 | O26: 3 | R26: 10
B27: 3320100831 | C27: ドルフィンＢＡＳＥ ｓｏｒａ | D27: 岡山市北区佐山2107番地5 | E27: 086-486-4400 | F27: 7 | P27: R8.9.1新規
B28: 3320100237 | C28: 番町仲よし | D28: 岡山市北区番町2丁目7番10 | E28: 086-206-1500 | F28: 10 | G28: 10 | H28: 5 | I28: 5 | J28: 0 | K28: 0 | L28: 0 | M28: 0 | N28: 0 | O28: 0 | R28: 18
B29: 3320100104 | C29: ひまわりホーム・しらゆりホーム | D29: 岡山市北区谷万成２丁目２－４７ | E29: 086-251-3566 | F29: 12 | G29: 11 | H29: 6 | I29: 5 | J29: 0 | K29: 1 | L29: 1 | M29: 0 | N29: 0 | O29: 0 | R29: 13
B30: 3320100542 | C30: プラチナウイング | D30: 岡山市北区今1丁目1-1 グランデュール今2号館 503号 | E30: 086-241-7878 | F30: 8 | G30: 7 | H30: 4 | I30: 3 | J30: 0 | K30: 0 | L30: 0 | M30: 1 | N30: 0 | O30: 1 | R30: 9
B31: 3320100260 | C31: みなん地域生活ホーム | D31: 岡山市北区平田407 | E31: 086-805-3804 | F31: 17 | G31: 16 | H31: 9 | I31: 7 | J31: 2 | K31: 0 | L31: 2 | M31: 0 | N31: 0 | O31: 0 | R31: 24
B32: 3320100609 | C32: みらいのたね岡山 | D32: 岡山市北区七日市東町6-15 | E32: 086-230-1207 | F32: 10 | G32: 5 | H32: 3 | I32: 2 | J32: 0 | K32: 0 | L32: 0 | M32: 2 | N32: 3 | O32: 5 | R32: 2
B33: 3320100211 | C33: ももっ子ハウス | D33: 岡山市北区中原497-1 | E33: 086-275-8333 | F33: 14 | G33: 8 | H33: 8 | I33: 0 | J33: 0 | K33: 0 | L33: 0 | M33: - | N33: - | O33: 6 | R33: 15
B34: 3320100591 | C34: よつば院 | D34: 岡山市北区三野3丁目7-1 ストークマンション１ １０８号 | E34: 070-1745-2103 | F34: 18 | G34: 0 | H34: 0 | I34: 0 | J34: 0 | K34: 0 | L34: 0 | M34: 0 | N34: 2 | O34: 2 | R34: 3
B35: 3320100054 | C35: わかば寮 地域生活ホーム | D35: 岡山市北区平田４０７ | E35: 086-805-3804 | F35: 21 | G35: 21 | H35: 16 | I35: 5 | J35: 0 | K35: 0 | L35: 0 | M35: 0 | N35: 0 | O35: 0 | R35: 23
B36: 3320100757 | C36: 風の丘 | D36: 岡山市中区今在家374番地1 Forest Ｃ棟 | E36: 086-275-3777 | F36: 6 | G36: 5 | H36: 3 | I36: 2 | J36: 1 | L36: 1 | O36: 1 | R36: 33
B37: 3320100823 | C37: グループホームうぃ～る | D37: 岡山市中区清水二丁目8-51-8 | E37: 086-206-3270 | F37: 9
B38: 3320100336 | C38: グループホーム バディーズ平井/べスティーズ平井 | D38: 岡山市中区平井17-26 | E38: 086-230-1726 | F38: 20 | G38: 18 | H38: 8 | I38: 10 | J38: 0 | K38: 0 | L38: 0 | M38: 2 | N38: 0 | O38: 2 | R38: 39
B39: 3320100088 | C39: グループホーム ひゅうまん | D39: 岡山市中区赤坂南新町６番１号 | E39: 086-272-0625 | F39: 23 | G39: 22 | H39: 10 | I39: 12 | J39: 0 | K39: 0 | L39: 0 | M39: 0 | N39: 0 | O39: 0 | R39: 34
B40: 3320100419 | C40: グループホームＲＡＳＩＥＬ平井 | D40: 岡山市中区平井6丁目8-17 | E40: 086-271-5551 | F40: 20 | G40: 19 | H40: 10 | I40: 9 | J40: 0 | K40: 5 | L40: 5 | M40: 0 | N40: 0 | O40: 0 | R40: 40
B41: 3320100310 | C41: グループホームＳＯＲＴＥ | D41: 岡山市中区浜3丁目5-55(103) | E41: 086-201-2143 | F41: 18 | G41: 18 | H41: 3 | I41: 15 | J41: 0 | K41: 0 | L41: 0 | M41: 0 | N41: 0 | O41: 0 | R41: 36
...

Sheet 施設入所支援
A1: 障害者総合支援法によるサービス体系 | E1: 施設入所支援 | N1: =共同生活援助!M1 -> 令和８年９月１日現在
A3: 圏域名 | B3: 事業所番号 | C3: 事業所名 | D3: 住所 | E3: 電話番号 | F3: 定員 | H3: 在籍 | K3: 待機者 | N3: 利用可能者数 | P3: 備考
G4: 初日在籍 | H4: 男 | I4: 女 | J4: 男 | K4: 女 | L4: 計 | M4: 男 | N4: 女 | O4: 計
A5: 備前圏域 | B5: 3310101724 | C5: 愛育寮 | D5: 岡山市北区祇園８６６ | E5: 086-275-4644 | F5: 62 | G5: 60 | H5: 27 | I5: 33 | J5: 32 | K5: 52 | L5: 84 | M5: 0 | N5: 0 | O5: 0 | R5: 5
B6: 3310102995 | C6: 旭川学園 | D6: 岡山市北区祇園８６６ | E6: 086-275-4647 | F6: 20 | G6: 20 | H6: 17 | I6: 3 | J6: 0 | K6: 0 | L6: 0 | M6: 0 | N6: 0 | O6: 0 | R6: 6
B7: 3310102276 | C7: いづみ寮 | D7: 岡山市北区中原６６４－１ | E7: 086-275-1816 | F7: 75 | G7: 73 | H7: 63 | I7: 10 | J7: 99 | K7: 13 | L7: 112 | M7: 0 | N7: 0 | O7: 0 | R7: 7
B8: 3310101674 | C8: 吉備ワークホーム | D8: 岡山市北区祇園８６６ | E8: 086-275-2486 | F8: 30 | G8: 24 | H8: 19 | I8: 5 | J8: 0 | K8: 0 | L8: 0 | O8: 5 | R8: 3
B9: 3310101682 | C9: 竜ノ口寮 | D9: 岡山市北区祇園８６６ | E9: 086-275-3216 | F9: 80 | G9: 79 | H9: 39 | I9: 40 | J9: 24 | K9: 12 | L9: 36 | M9: 1 | N9: 0 | O9: 1 | R9: 4
B10: 3310102367 | C10: のぞみ寮 | D10: 岡山市北区平田４０７ | E10: 086-805-3800 | F10: 40 | G10: 39 | H10: 22 | I10: 17 | J10: 5 | K10: 3 | L10: 8 | M10: 1 | N10: 0 | O10: 1 | R10: 8
B11: 3310100841 | C11: 障害者支援施設 ももぞの育成園 | D11: 岡山市北区粟井2786-2 | E11: 086-299-0623 | F11: 40 | G11: 40 | H11: 31 | I11: 9 | J11: 21 | K11: 8 | L11: 29 | M11: 0 | N11: 0 | O11: 0 | R11: 2
B12: 3310100858 | C12: 障害者支援施設 ももぞの福祉園 | D12: 岡山市北区粟井2778-4 | E12: 086-299-0630 | F12: 35 | G12: 31 | H12: 25 | I12: 6 | J12: 6 | K12: 5 | L12: 11 | M12: 0 | N12: 0 | O12: 0 | R12: 1
B13: 3310102375 | C13: わかば寮 | D13: 岡山市北区平田４０７ | E13: 086-805-3804 | F13: 70 | G13: 70 | H13: 47 | I13: 23 | J13: 47 | K13: 26 | L13: 73 | M13: 0 | N13: 0 | O13: 0 | R13: 9
B14: 3310102649 | C14: 岡星寮 | D14: 岡山市中区原尾島4-17-37 | E14: 086-272-1072 | F14: 40 | G14: 40 | H14: 24 | I14: 16 | J14: 2 | K14: 4 | L14: 6 | M14: 0 | N14: 0 | O14: 0 | R14: 10
B15: 3310101930 | C15: 障害者支援施設 ひゅうまん | D15: 岡山市中区赤坂南新町6番1号 | E15: 086-272-0625 | F15: 40 | G15: 40 | H15: 27 | I15: 13 | J15: 7 | K15: 1 | L15: 8 | M15: 0 | N15: 0 | O15: 0 | R15: 11
B16: 3310102268 | C16: 泉の園 | D16: 岡山市南区浦安本町１９０ | E16: 086-264-2882 | F16: 42 | G16: 42 | H16: 26 | I16: 16 | J16: 37 | K16: 19 | L16: 56 | M16: 0 | N16: 0 | O16: 0 | R16: 12
B17: 3310400274 | C17: 障害者支援施設のぞみ園 | D17: 玉野市木目1461番地 | E17: 0863-71-0110 | F17: 80 | G17: 80 | H17: 46 | I17: 34 | J17: 20 | K17: 2 | L17: 22 | M17: 0 | N17: 0 | O17: 0 | R17: 13
B18: 3312300084 | C18: しずたに | D18: 和気町日笠下1613-5 | E18: 0869-92-1155 | F18: 40 | G18: 40 | H18: 23 | I18: 17 | J18: 23 | K18: 12 | L18: 35 | M18: 0 | N18: 0 | O18: 0 | R18: 14
B19: 3312300142 | C19: 障害者支援施設ぽれぽれ | D19: 和気町小坂1273-7 | E19: 0869-88-9777 | F19: 50 | G19: 49 | H19: 30 | I19: 19 | J19: 2 | K19: 2 | L19: 4 | M19: 0 | N19: 1 | O19: 1 | R19: 15
B20: 3313900148 | C20: 吉備高原総合福祉センター 障害者支援施設 さくら苑 | D20: 吉備中央町吉川7531 | E20: 0866-56-9711 | F20: 40 | G20: 40 | H20: 30 | I20: 10 | J20: 1 | K20: 0 | L20: 1 | M20: 0 | N20: 0 | O20: 0 | R20: 16
... B22: 3313900155 | C22: 障がい者支援施設 吉備高原清和荘 | D22: 吉備中央町北975-1 | E22: 0866-55-6000 | F22: 50 | G22: 49 | H22: 27 | I22: 22 | J22: 33 | K22: 17 | L22: 50 | M22: 1 | N22: 0 | O22: 1 | R22: 17
A23: 小計 | F23: =SUM(F5:F22) -> 870 | G23: =SUM(G5:G22) -> 836 | H23: =SUM(H5:H22) -> 537 | I23: =SUM(I5:I22) -> 299 | J23: =SUM(J5:J22) -> 359 | K23: =SUM(K5:K22) -> 176 | L23: =SUM(L5:L22) -> 535 | M23: =SUM(M5:M22) -> 15 | ... O23: =SUM(O5:O22) -> 25
A25: 倉敷・井笠圏域 | B25: 3310201243 | C25: 障害者支援施設 BBチャレンジャー！ | D25: 倉敷市福田町福田2122-1 | E25: 086-455-8585 | F25: 60 | G25: 49 | H25: 30 | I25: 19 | J25: 0 | K25: 0 | L25: 0 | M25: 6 | N25: 5 | O25: 11
B26: 3310201227 | C26: 障害者支援施設 Ｐ．Ｐ．Ｐ．ＢＢフリーダム！ | D26: 倉敷市福田町福田2122-1 | E26: 086-455-8585 | F26: 60 | G26: 56 | H26: 37 | I26: 19 | J26: 14 | K26: 9 | L26: 23 | O26: 4
B27: 3310201086 | C27: あしたば | D27: 倉敷市山地1730-1 | E27: 086-463-0770 | F27: 50 | G27: 40 | H27: 28 | I27: 12 | J27: 15 | K27: 5 | L27: 20 | M27: 0 | N27: 0 | O27: 0
B28: 3310201359 | C28: 住倉学園 | D28: 倉敷市玉島服部3788-1 | E28: 068-525-2522 | F28: 80 | G28: 80 | H28: 59 | I28: 21 | J28: 3 | K28: 1 | L28: 4 | M28: 0 | N28: 0 | O28: 0
B29: 3310201524 | C29: 瀬戸内学園 | D29: 倉敷市連島町矢柄6092 | E29: 086-448-1811 | F29: 60 | G29: 60 | H29: 30 | I29: 30 | J29: 52 | K29: 21 | L29: 73 | M29: 0 | N29: 0 | O29: 0
B30: 3310201748 | C30: 王慈療護園 | D30: 倉敷市児島下の町2-12-24 | E30: 086-474-9911 | F30: 50 | G30: 48 | H30: 34 | I30: 14 | J30: 36 | K30: 19 | L30: 55 | M30: 0 | N30: 0 | O30: 0
B31: 3310202654 | C31: ベネヴィータ王慈 | D31: 倉敷市児島田の口7-6-39 | E31: 086-477-9501 | F31: 20 | G31: 20 | H31: 11 | I31: 9 | J31: 17 | K31: 11 | L31: 28 | M31: 0 | N31: 0 | O31: 0
B32: 3310500172 | C32: 障害者支援施設 こうのしま荘 | D32: 笠岡市神島3628-3 | E32: 0865-67-6111 | F32: 80 | G32: 80 | H32: 51 | I32: 29 | J32: 16 | K32: 7 | L32: 23 | M32: 0 | N32: 0 | O32: 0
B33: 3310500222 | C33: 障害者支援施設 笠岡学園 | D33: 笠岡市金浦754-1 | E33: 0865-66-0866 | F33: 40 | G33: 40 | H33: 26 | I33: 14 | J33: 26 | K33: 7 | L33: 33 | M33: 0 | N33: 0 | O33: 0
B34: 3310500263 | C34: ときわ | D34: 笠岡市有田1778 | E34: 0865-66-3605 | F34: 40 | G34: 37 | H34: 23 | I34: 14 | J34: 9 | K34: 4 | L34: 13 | M34: 0 | N34: 0 | O34: 0
B35: 3310800309 | C35: 吉備路学園 | D35: 総社市小寺1553番1 | E35: 0866-92-6580 | F35: 50 | G35: 50 | H35: 32 | I35: 18 | J35: 32 | K35: 14 | L35: 46 | M35: 0 | N35: 0 | O35: 0
B36: 3311600104 | C36: あお空 | D36: 浅口市金光町佐方2130 | E36: 0865-42-6306 | F36: 40 | G36: 39 | H36: 20 | I36: 19 | J36: 18 | K36: 10 | L36: 28 | M36: 0 | N36: 0 | O36: 0
A37: 小計 | F37: =SUM(F25:F36) -> 630 | G37: =SUM(G25:G36) -> 599 | H37: =SUM(H25:H36) -> 381 | I37: =SUM(I25:I36) -> 218 | J37: =SUM(J25:J36) -> 238 | K37: =SUM(K25:K36) -> 108 | L37: =SUM(L25:L36) -> 346 | M37: =SUM(M25:M36) -> 6 | ... O37: =SUM(O25:O36) -> 15
A39: 高梁・新見圏域 | B39: 3310900190 | C39: かわかみ療護園 | D39: 高梁市川上町上大竹2051 | E39: 0866-48-3562 | F39: 40 | G39: 36 | H39: 29 | I39: 7 | J39: 6 | K39: 3 | L39: 9 | M39: 2 | N39: 2 | O39: 4
B40: 3310900182 | C40: たかはし松風寮 | D40: 高梁市落合町阿部2528-1 | E40: 0866-22-7102 | F40: 34 | G40: 33 | H40: 23 | I40: 10 | J40: 11 | K40: 2 | L40: 13 | M40: 0 | N40: 0 | O40: 0
B41: 3311000107 | C41: 神郷の園 | D41: 新見市神郷下神代1955 | E41: 0867-92-6311 | F41: 40 | G41: 40 | H41: 24 | I41: 16 | J41: 11 | K41: 5 | L41: 16 | M41: 0 | N41: 0 | O41: 0
B42: 3311000115 | C42: 障害者支援施設 大佐荘 | D42: 新見市大佐田治部3245 | E42: 0867-98-3111 | F42: 60 | G42: 51 | H42: 30 | I42: 21 | J42: 10 | K42: 1 | L42: 11 | O42: 4
B43: 3311000131 | C43: 岡山県健康の森学園障害者支援施設 | D43: 新見市哲多町大野2034-5 | E43: 0867-96-2995 | F43: 35 | G43: 21 | H43: 17 | I43: 4 | J43: 0 | K43: 0 | L43: 0 | M43: 6 | N43: 8 | O43: 14
A44: 小計 | F44: =SUM(F39:F43) -> 209 | G44: =SUM(G39:G43) -> 181 | H44: =SUM(H39:H43) -> 123 | I44: =SUM(I39:I43) -> 58 | J44: =SUM(J39:J43) -> 38 | K44: =SUM(K39:K43) -> 11 | L44: =SUM(L39:L43) -> 49 | M44: =SUM(M39:M43) -> 8 | ... O44: =SUM(O39:O43) -> 22
...

Sheet 生活介護
A1: 障害者総合支援法によるサービス体系 | E1: 生活介護 | H1: =共同生活援助!M1 -> 令和８年９月１日現在
A3: 圏域名 | C3: 事業所名 | D3: 住所 | E3: 電話番号 | F3: 定員 | G3: 初日在籍 | H3: 待機者 | I3: 利用可能者数 | J3: 備考
G4: 計 | H4: 計 | I4: 計
A5: 備前圏域 | B5: 3310101724 | C5: 愛育寮 | D5: 岡山市北区祇園８６６ | E5: 086-275-4644 | F5: 72 | G5: 68 | H5: 0 | I5: 1 | J5: 1以上 | L5: 11
B6: 3310101880 | C6: あおば | D6: 岡山市北区中原664-1先 | E6: 086-275-1626 | F6: 30 | G6: 30 | H6: 0 | I6: 0 | L6: 21
B7: 3310102995 | C7: 旭川学園 | D7: 岡山市北区祇園８６６ | E7: 086-275-4647 | F7: 20 | G7: 20 | H7: 0 | I7: 0 | L7: 13
B8: 3310103001 | C8: 旭川児童院 通園センター | D8: 岡山市北区祇園８６６ | E8: 086-275-1951 | F8: 20 | G8: 39 | H8: 0 | I8: 0 | L8: 14
B9: 3310107242 | C9: あにまるず | D9: 岡山市北区楢津1399番1 | E9: 086-239-8018 | F9: 8 | G9: 9 | H9: 0 | I9: 4 | L9: 17
B10: 3310102276 | C10: いづみ寮 | D10: 岡山市北区中原６６４－１先 | E10: 086-275-1816 | F10: 80 | G10: 73 | H10: 112 | I10: 0 | L10: 22
B11: 3310101856 | C11: エスポアール・スター | D11: 岡山市北区福谷５３番地 | E11: 086-284-8090 | F11: 37 | G11: 40 | H11: 0 | I11: 2 | L11: 26
B12: 3310105899 | C12: おうちだ | D12: 岡山市北区撫川848 | E12: 086-238-1800 | F12: 15 | G12: 21 | H12: 1 | I12: 4 | L12: 25
B13: 3310102383 | C13: ラポールかえで | D13: 岡山市北区平田４０７ | E13: 086-805-3802 | F13: 30 | G13: 28 | H13: 0 | I13: 8 | L13: 31
B14: 3310105477 | C14: 北ふれあいデイサービスセンター | D14: 岡山市北区谷万成二丁目6番33号（北ふれあいセンター2階） | E14: 086-251-6502 | F14: 35 | G14: 2 | H14: 0 | I14: 3 | L14: 20
B15: 3310107580 | C15: ＣＯＲＬＩＡ | D15: 岡山市北区表町3丁目5-19 | E15: 090-9737-5538 | F15: 20 | G15: 6 | H15: 0 | I15: 14 | L15: 8
B16: 3310104488 | C16: ＣＯＭＰＡＳＳアクセス | D16: 岡山市北区高松131-15 | E16: 086-905-0228 | F16: 10 | G16: 17 | H16: 0 | I16: 6 | L16: 18
B17: 3310100726 | C17: 昭和町仲よし | D17: 岡山市北区昭和町６－２６ | E17: 086-214-5103 | F17: 8 | G17: 9 | H17: 0 | I17: 0 | L17: 19
... B21: 3310105527 | C21: 多機能型障害者福祉施設 ＯＮＥＯＮＥ | D21: 岡山市北区下中野323-110 | E21: 086-244-6989 | F21: 10 | G21: 6 | H21: 0 | I21: 0 | L21: 6
B22: 3310108000 | C22: 多機能型事業所 たいどの里 | D22: 岡山県岡山市北区牟佐163-6 | E22: 086-230-5330 | F22: 10
B23: 3310101682 | C23: 竜ノ口寮 | D23: 岡山市北区祇園８６６ | E23: 086-275-3216 | F23: 100 | G23: 85 | H23: 36 | I23: 15 | L23: 10
B24: 3310105790 | C24: つぼみ | D24: 岡山市北区原1058番地1 | E24: 086-230-2737 | F24: 2 | G24: 0 | H24: 0 | I24: 0 | L24: 16
B25: 3310105444 | C25: デイサービス 笠井の里 | D25: 岡山市北区畑鮎117 | E25: 086-228-0725 | F25: 21 | G25: 8 | H25: 1 | I25: 5 | L25: 23
B26: 3310106574 | C26: デイサービスいちばん星 | D26: 岡山市北区旭町94 | E26: 086-230-0210 | F26: 20 | G26: 16 | H26: 0 | I26: 4 | L26: 1
B27: 3310102219 | C27: デイセンターあかしや | D27: 岡山市北区祇園８６６ | E27: 086-275-0711 | F27: 20 | G27: 10 | H27: 0 | I27: 10 | L27: 12
B28: 3312200086 | C28: デイセンターなずな | D28: 岡山市北区玉柏字森木1701-3 | E28: 086-2066277 | F28: 20 | G28: 47 | H28: 0 | I28: 0 | L28: 15
B29: 3310106764 | C29: 中仙道デイサービスセンター | D29: 岡山市北区中仙道一丁目1番43号 | E29: 086-241-1212 | F29: 20 | G29: 34 | H29: 0 | I29: 2 | L29: 27
B30: 3310102367 | C30: のぞみ寮 | D30: 岡山市北区平田４０７ | E30: 086-805-3800 | F30: 45 | G30: 47 | H30: 2 | I30: 0 | L30: 29
B31: 3310104637 | C31: ハッピーデイズ | D31: 岡山市北区撫川439番地5 | E31: 086-903-3001 | F31: 20 | G31: 12 | H31: 0 | I31: 8 | L31: 24
B32: 3310100841 | C32: 障害者支援施設 ももぞの育成園 | D32: 岡山市北区粟井２７８６－２ | E32: 086-299-0623 | F32: 40 | G32: 41 | H32: 29 | I32: 0 | L32: 4
B33: 3310100858 | C33: 障害者支援施設 ももぞの福祉園 | D33: 岡山市北区粟井２７７８－４ | E33: 086-299-0630 | F33: 25 | G33: 26 | H33: 0 | I33: 0 | L33: 3
B34: 3310106293 | C34: 療育センターももっこ | D34: 岡山市北区下足守1627-1 | E34: 086-295-2080 | F34: 15 | G34: 19 | H34: 0 | I34: 0 | L34: 5
... B37: 3310103845 | C37: エスポアール・クワノ | D37: 岡山市中区桑野525番地126 | E37: 086-274-6677 | F37: 20 | G37: 22 | H37: 0 | I37: 0 | L37: 33
B38: 3310107697 | C38: ＯＺデイおかやま東 | D38: 岡山市中区関464-8 | E38: 086-206-1721 | F38: 5 | L38: 41
B39: 3310102649 | C39: 岡星寮 | D39: 岡山市中区原尾島4-17-37 | E39: 086-272-1072 | F39: 40 | G39: 39 | H39: 6 | I39: 1 | L39: 36
B40: 3310105329 | C40: さくらんぼ | D40: 岡山市中区新京橋3-4-25 | E40: 086-941-7312 | F40: 20 | G40: 5 | H40: 0 | I40: 1 | L40: 37
B41: 3310104926 | C41: ジブンワーク | D41: 岡山市中区長岡4-66 | E41: 090-7158-9205 | F41: 6 | G41: 7 | H41: 0 | I41: 13 | L41: 40
B42: 3310101930 | C42: 障害者支援施設 ひゅうまん | D42: 岡山市中区赤坂南新町６番１号 | E42: 086-272-0625 | F42: 48 | G42: 58 | H42: 0 | I42: 0 | L42: 39
B43: 3310106616 | C43: 生活介護うぃ～る | D43: 岡山市中区赤田73-3 | E43: 090-3377-4009 | F43: 20 | G43: 8 | H43: 3 | I43: 9 | L43: 32
B44: 3310105642 | C44: 生活介護ハレルヤ | D44: 岡山市中区原尾島1丁目19-45 | E44: 086-207-2342 | F44: 20 | G44: 34 | H44: 0 | I44: 0 | L44: 35
B45: 3310100817 | C45: 生活介護事業所 桑野フレンドリーハウス | D45: 岡山市中区桑野715-2ふれあいセンター | E45: 086-274-5160 | F45: 40 | G45: 40 | H45: 3 | I45: 0 | L45: 34
B46: 3310106046 | C46: 多機能型事業所みらいえ | D46: 岡山市中区平井一丁目11番3号 | E46: 086-238-7022 | F46: 20 | G46: 6 | H46: 0 | I46: 14 | L46: 46
...

Sheet 自立訓練（機能）
A1: 障害者総合支援法によるサービス体系 | E1: 自立訓練（機能訓練） | I1: =共同生活援助!M1 -> 令和８年９月１日現在
A3: 圏域名 | C3: 事業所名 | D3: 住所 | E3: 電話番号 | F3: 定員 | G3: 初日在籍 | H3: 待機者 | I3: 利用可能者数 | J3: 備考
G4: 計 | H4: 計 | I4: 計
A5: 備前圏域 | B5: 3311100337 | C5: のぞみ寮 | D5: 岡山市北区平田４０７番地 | E5: 086-805-3800 | F5: 6 | G5: 0 | H5: 0 | I5: 6
B6: 3310102367 | C6: 草加病院 | D6: 備前市西片上1122 | E6: 0869-64-3811 | F6: 40 | G6: 3 | H6: 0 | I6: 37
A7: 小計 | F7: =SUM(F5:F6) -> 46 | G7: =SUM(G5:G6) -> 3 | H7: =SUM(H5:H6) -> 0 | I7: =SUM(I5:I6) -> 43
A9: 倉敷・井笠圏域 | B9: 3311600229 | C9: 共生型自立訓練（機能訓練）事業所 いるかの家リハビリテーションセンター | D9: 浅口市寄島町16089-16 | E9: 0865-54-2001 | F9: 50 | G9: 10 | H9: 0 | I9: 20
A10: 小計 | F10: =SUM(F9) -> 50 | G10: =SUM(G9) -> 10 | H10: =SUM(H9) -> 0 | I10: =SUM(I9) -> 20
A12: 総計 | F12: =F7+F10 -> 96 | G12: =G7+G10 -> 13 | H12: =H7+H10 -> 0 | I12: =I7+I10 -> 63
I224: 2

Sheet 自立訓練（生活）
A1: 障害者総合支援法によるサービス体系 | E1: 自立訓練（生活訓練） | I1: =共同生活援助!M1 -> 令和８年９月１日現在
A3: 圏域名 | C3: 事業所名 | D3: 住所 | E3: 電話番号 | F3: 定員 | G3: 初日在籍 | H3: 待機者 | I3: 利用可能者数 | J3: 備考
G4: 計 | H4: 計 | I4: 計
A5: 備前圏域 | B5: 3310105493 | C5: アクセスジョブ岡山南中央町 | D5: 岡山市北区南中央町12-3 レガリアイン１F | E5: 086-801-7807 | F5: 7 | G5: 2 | H5: 0 | I5: 3 | L5: 4
B6: 3310106517 | C6: ウェルビーチャレンジ岡山駅東口センター | D6: 岡山市北区本町6-30 第一セントラルビル2号館5階 | E6: 086-230-0672 | F6: 20 | G6: 22 | H6: 4 | I6: 5 | L6: 2
B7: 3310105592 | C7: 視覚障碍者多機能型事業所 みずのわ | D7: 岡山市北区西古松136-7 | E7: 086-230-0374 | F7: 6 | G7: 6 | H7: 0 | I7: 0 | L7: 7
B8: 3310104934 | C8: ＳＭＩＬＥくろーばー | D8: 岡山市北区野田屋町1丁目6番20号 せとうちビル2 3階4階 | E8: 086-237-3244 | F8: 10 | G8: 8 | H8: 0 | I8: 2 | L8: 8
B9: 3310105576 | C9: 多機能型事業所 きら星 | D9: 岡山市北区伊福町1丁目14-11 | E9: 086-214-2828 | F9: 10 | G9: 6 | H9: 0 | I9: 4 | J9: R8.4.1休止 | L9: 5
B10: 3310103746 | C10: 多機能型事業所 スピカ | D10: 岡山市北区伊福町二丁目6-1 スピカビル | E10: 086-250-6262 | F10: 6 | G10: 12 | H10: 0 | I10: 0 | L10: 6
B11: 3310106111 | C11: 多機能型事業所 つむぎ | D11: 岡山市北区田町2-1-3 B－HOUSE 4階 | E11: 086-235-1188 | F11: 8 | G11: 8 | H11: 0 | I11: 1 | L11: 1
B12: 3310107325 | C12: リワークセンター岡山 | D12: 岡山市北区本町6番30号 第一セントラルビル2号館5階 | E12: 086-206-7855 | F12: 20 | G12: 10 | H12: 2 | I12: 8 | L12: 3
B13: 3310104793 | C13: ハートスイッチ東岡山校 | D13: 岡山県岡山市中区関437-1 | E13: 086-208-6300 | F13: 6 | G13: 7 | H13: 0 | I13: 3 | L13: 9
B14: 3310104330 | C14: カレッジ旭川荘 | D14: 岡山市東区西大寺浜609 | E14: 086-944-6920 | F14: 20 | G14: 16 | H14: 0 | I14: 4 | L14: 10
B15: 3310106590 | C15: 多機能型事業所のあ 岡山 | D15: 岡山市東区西大寺中2丁目8-15 | E15: 086-201-6410 | F15: 10 | G15: 11 | H15: 0 | I15: 2 | L15: 11
B16: 3310107804 | C16: クラシヲ | D16: 岡山市南区新保1609-13 | E16: 086-250-1161 | F16: 10 | G16: 10 | H16: 0 | I16: 0 | L16: 12
B17: 3310104512 | C17: ハートスイッチ岡山南校 | D17: 岡山県岡山市南区西市96-4 | E17: 086-246-1700 | F17: 6 | G17: 7 | H17: 0 | I17: 1 | L17: 13
B18: 3310400407 | C18: Ｌｉｔｔｌｅ Ｐｌｕｓ | D18: 玉野市宇野7-24-1 | E18: 0863-23-4020 | F18: 20 | G18: 10 | H18: 0 | I18: 10 | L18: 14
B19: 3311100055 | C19: ユートピア | D19: 備前市西片上193-1 | E19: 0869-63-4329 | F19: 6 | G19: 4 | H19: 0 | I19: 4 | L19: 15
B20: 3313900114 | C20: 吉備の里なでしこ | D20: 吉備中央町上野2320-12 | E20: 0866-56-8216 | F20: 20 | G20: 10 | H20: 0 | I20: 10 | L20: 16
A21: 小計 | F21: =SUM(F5:F20) -> 185 | G21: =SUM(G5:G20) -> 149 | H21: =SUM(H5:H20) -> 6 | I21: =SUM(I5:I20) -> 57
A23: 倉敷・井笠圏域 | B23: 3310201722 | C23: 倉敷市ふじ園 | D23: 倉敷市有城710 | E23: 086-429-1393 | F23: 15 | G23: 6 | H23: 0 | I23: 9
B24: 3310203199 | C24: 多機能・共生型事業体くらしきピアぽーと | D24: 倉敷市上富井88番地 | E24: 086-441-9822 | F24: 7 | G24: 9 | H24: 0 | I24: 10
B25: 3310204007 | C25: あんだんて | D25: 倉敷市東富井803-9 | E25: 086-486-1071 | F25: 6 | G25: 0 | H25: 0 | I25: 0
B26: 3310202910 | C26: 倉人（くらんど） | D26: 倉敷市連島町西之浦5096 | E26: 086-436-6567 | F26: 12 | G26: 4 | H26: 0 | I26: 6
B27: 3310204130 | C27: ｉｒｏｄｏｒｉ ＢＡＳＥ | D27: 倉敷市中畝10丁目336-5 | E27: 086-486-5656 | F27: 10 | G27: 13 | H27: 0 | I27: 2
B28: 3310204551 | C28: 自立訓練事業所おとのみ | D28: 岡山県倉敷市中庄3524-1 | E28: 086-454-9192 | F28: 20 | G28: 10 | H28: 0 | I28: 10
B29: 3310203801 | C29: 多機能事業所のあ 倉敷 | D29: 倉敷市水島北瑞穂町9-7 | E29: 086-436-7255 | F29: 10 | G29: 7 | H29: 0 | I29: 1
B30: 3310204601 | C30: 多機能型事業所楽しみ空間 | D30: 岡山県倉敷市宮前712番地5 | E30: 086-425-5300 | F30: 20 | G30: 0 | H30: 1 | I30: 10
B31: 3310800614 | C31: のあ総社 | D31: 総社市中央6丁目12-106 | E31: 070-5079-2622 | F31: 10 | G31: 9 | H31: 0 | I31: 1
A32: 小計 | F32: =SUM(F23:F29) -> 80 | G32: =SUM(G23:G29) -> 49 | H32: =SUM(H23:H29) -> 0 | I32: =SUM(I23:I31) -> 49
A34: 高梁・新見圏域 | B34: 3311000131 | C34: 岡山県健康の森学園障害者支援施設 | D34: 新見市哲多町大野2034-5 | E34: 0867-96-2995 | F34: 12 | G34: 7 | H34: 0 | I34: 5
A35: 小計 | F35: =SUM(F34) -> 12 | G35: =SUM(G34) -> 7 | H35: =SUM(H34) -> 0 | I35: =SUM(I34) -> 5
A37: 総計 | F37: =F35+F32+F21 -> 277 | G37: =G35+G32+G21 -> 205 | H37: =H35+H32+H21 -> 6 | I37: =I35+I32+I21 -> 111
I226: 2

Sheet 宿泊型自立訓練
A1: 障害者総合支援法によるサービス体系 | E1: 宿泊型自立訓練 | N1: =共同生活援助!M1 -> 令和８年９月１日現在
A3: 圏域名 | B3: 事業所番号 | C3: 事業所名 | D3: 住所 | E3: 電話番号 | F3: 定員 | H3: 在籍 | K3: 待機者 | N3: 利用可能者数 | P3: 備考
G4: 初日在籍 | H4: 男 | I4: 女 | J4: 男 | K4: 女 | L4: 計 | M4: 男 | N4: 女 | O4: 計
A5: 備前圏域 | B5: 3310102953 | C5: 多機能型事業所ひまわり | D5: 岡山市北区谷万成１－６－１ | E5: 086-252-9890 | F5: 19 | G5: 10 | H5: 6 | I5: 4 | J5: 1 | K5: 0 | L5: 1 | M5: 4 | N5: 4 | O5: 8
B6: 3310107804 | C6: クラシヲ | D6: 岡山市南区新保1609-13 | E6: 086-250-1161 | F6: 15 | G6: 11 | H6: 7 | I6: 4 | J6: 0 | K6: 0 | L6: 2 | M6: 0 | N6: 0 | O6: 0
B7: 3313900130 | C7: 吉備の里つばき寮 | D7: 吉備中央町上野２４７０－７ | E7: 0866-56-8404 | F7: 20 | G7: 13 | H7: 11 | I7: 2 | J7: 0 | K7: 0 | L7: 0 | M7: 4 | N7: 3 | O7: 7
A8: 小計 | F8: =SUM(F5:F7) -> 54 | G8: =SUM(G5:G7) -> 34 | H8: =SUM(H5:H7) -> 24 | I8: =SUM(I5:I7) -> 10 | J8: =SUM(J5:J7) -> 1 | K8: =SUM(K5:K7) -> 0 | L8: =SUM(L5:L7) -> 3 | M8: =SUM(M5:M7) -> 8 | ... O8: =SUM(O5:O7) -> 15
A10: 合計 | F10: =SUM(F5:F7) -> 54 | G10: =SUM(G5:G7) -> 34 | H10: =SUM(H5:H7) -> 24 | I10: =SUM(I5:I7) -> 10 | J10: =SUM(J5:J7) -> 1 | K10: =SUM(K5:K7) -> 0 | L10: =SUM(L5:L7) -> 3 | M10: =SUM(M5:M7) -> 8 | ... O10: =SUM(O5:O7) -> 15
I220: 2

Sheet 就労移行
A1: 障害者総合支援法によるサービス体系 | E1: 就労移行支援 | I1: =共同生活援助!M1 -> 令和８年９月１日現在
A3: 圏域名 | C3: 事業所名 | D3: 住 所 | E3: 電話番号 | F3: 定員 | G3: 初日在籍 | H3: 待機者 | I3: 利用可能者数 | J3: 備考
G4: 計 | H4: 計 | I4: 計
A5: 備前圏域 | B5: 3310105493 | C5: アクセスジョブ岡山南中央町 | D5: 岡山市北区南中央町12-3 レガリアイン1Ｆ | E5: 086-801-7807 | F5: 13 | G5: 8 | H5: 0 | I5: 5 | L5: 7
B6: 3310103928 | C6: ウェルビー岡山駅前センター | D6: 岡山市北区本町6-36 第一セントラルビル3階 | E6: 086-201-4004 | F6: 20 | G6: 32 | H6: 0 | I6: 2 | L6: 9
B7: 3310105451 | C7: ウェルビー岡山駅前第２センター | D7: 岡山市北区本町1番2号 炭屋ビル3階 | E7: 086-201-5135 | F7: 20 | G7: 27 | H7: 0 | I7: 5 | L7: 8
B8: 3310106970 | C8: カラーズ・ラボ岡山 | D8: 岡山市北区野田二丁目4-1 シティーセンタービル 1階 | E8: 086-259-1920 | F8: 20 | G8: 8 | H8: 0 | I8: 12 | L8: 19
B9: 3310105188 | C9: キャプラ・ウィッシュ・リクリエ | D9: 岡山市北区今8丁目14-13ベスグロビル2階 | E9: 086-230-6270 | F9: 12 | G9: 12 | H9: 0 | I9: 6 | L9: 2
B10: 3310105055 | C10: サンソレイユ | D10: 岡山市北区田中145-101 | E10: 086-805-3611 | F10: 12 | G10: 8 | H10: 0 | I10: 4 | L10: 5
B11: 3310104124 | C11: 就労移行支援事業所 オカヤマエール | D11: 岡山市北区天瀬2-21 | E11: 086-206-1682 | F11: 20 | G11: 20 | H11: 0 | I11: 5 | L11: 4
B12: 3310106111 | C12: 就労移行支援事業所 つむぎ | D12: 岡山市北区田町二丁目1番3号Ｂ‐ＨＯＵＳＥ 4階 | E12: 086-235-1188 | F12: 12 | G12: 10 | H12: 1 | I12: 4 | L12: 6
B13: 3310103647 | C13: 就労移行支援センターフリーデザイン岡山 | D13: 岡山市北区奉還町3-15-8奉還町第一ビル105 | E13: 086-214-3351 | F13: 20 | G13: 13 | H13: 1 | I13: 16 | L13: 18
B14: 3310101955 | C14: ステップハウス わ！ | D14: 岡山市北区表町１－４－６４ | E14: 086-222-8686 | F14: 6 | G14: 3 | H14: 0 | I14: 4 | L14: 17
B15: 3310104934 | C15: ＳＭＩＬＥくろーばー | D15: 岡山市北区野田屋町1丁目6番20号 せとうちビル2 4階 | E15: 086-805-3804 | F15: 10 | G15: 4 | H15: 0 | I15: 6 | L15: 12
B16: 3310105519 | C16: 多機能型事業所アート＆ジョブセンター | D16: 岡山市北区柳町1-4-8ヒカリホールディングビル208号 | E16: 086-230-2881 | F16: 15 | G16: 8 | H16: 3 | I16: 6 | L16: 14
B17: 3310101906 | C17: 多機能型事業所 あすなろ | D17: 岡山市北区表町3-7-27 | E17: 086-273-9692 | F17: 20 | G17: 34 | H17: 3 | I17: 4 | L17: 16
... B19: 3310103654 | C19: ハートスイッチ岡山校 | D19: 岡山市北区本町6番36号 第一セントラルビル5階 | E19: 086-212-1100 | F19: 20 | G19: 17 | H19: 0 | I19: 2 | L19: 10
B20: 廃止 | C20: フロンティアリンク岡山キャリアセンター | D20: 岡山市北区野田二丁目4-1 シティーセンタービル 1階 | E20: 086-259-1920 | F20: 20 | G20: 13 | H20: 0 | I20: 7 | L20: 3
B21: 廃止 | C21: フロンティアリンク岡山キャリアセンター | D21: 岡山市北区野田二丁目4-1シティーセンタービル1階 | E21: 086-259-1920 | F21: 20 | G21: 15 | H21: 0 | I21: 5 | L21: 13
B22: 3310104215 | C22: ＬＩＴＡＬＩＣＯワークス岡山 | D22: 岡山市北区野田屋町1-7-17 千代田生命岡山ビル５Ｆ | E22: 086-236-1420 | F22: 20 | G22: 30 | H22: 3 | I22: 5 | L22: 11
B23: 3310105881 | C23: ＬＩＴＡＬＩＣＯワークス岡山駅南 | D23: 岡山市北区柳町1丁目1番1号 住友生命岡山ビル1階 | E23: 086-226-4524 | F23: 20 | G23: 29 | H23: 3 | I23: 5 | L23: 15
B24: 3310104793 | C24: ハートスイッチ東岡山校 | D24: 岡山市中区関437-1 | E24: 086-208-6300 | F24: 14 | G24: 16 | H24: 0 | I24: 3 | L24: 20
B25: 3310104330 | C25: カレッジ旭川荘 | D25: 岡山市東区西大寺浜609 | E25: 086-944-6920 | F25: 15 | G25: 16 | H25: 0 | I25: 0 | L25: 22
B26: 3312200045 | C26: 閑谷ワークセンター・せと | D26: 岡山市東区瀬戸町肩脊43 | E26: 086-952-2271 | F26: 6 | G26: 3 | H26: 0 | I26: 3 | L26: 21
B27: 3310104587 | C27: ＤＲＥＡＭＥＲ | D27: 岡山市南区新福1-22-6 | E27: 086-368-3186 | F27: 10 | G27: 20 | H27: 1 | I27: 4 | L27: 24
B28: 3310104512 | C28: ハートスイッチ岡山南校 | D28: 岡山市南区西市96-4 | E28: 086-246-1700 | F28: 14 | G28: 17 | H28: 0 | I28: 2 | L28: 23
B29: 3313900114 | C29: 吉備の里なでしこ | D29: 吉備中央町上野2320-12 | E29: 0866-56-7779 | F29: 20 | G29: 10 | H29: 0 | I29: 10 | L29: 25
A30: 小計 | F30: =SUM(F5:F29) -> 393 | G30: =SUM(G5:G29) -> 387 | H30: =SUM(H5:H29) -> 15 | I30: =SUM(I5:I29) -> 125
A32: 倉敷・井笠圏域 | B32: 3310203884 | C32: ウェルビー倉敷駅前センター | D32: 倉敷市阿知1丁目7-2倉敷シティプラザ西ビル２F 212 | E32: 086-441-7338 | F32: 20 | G32: 29 | H32: 0 | I32: 3
B33: 3310204262 | C33: ＬＩＴＡＬＩＣＯワークス倉敷 | D33: 倉敷市阿知1-7-2 くらしきシティプラザ西ビル2Ｆ213-1 | E33: 086-435-5232 | F33: 20 | G33: 34 | H33: 1 | I33: 4
B34: 3310202209 | C34: ハートスイッチ倉敷校 | D34: 倉敷市阿知１-7-2 702-1号室 | E34: 086-435-5400 | F34: 20 | G34: 18 | H34: 0 | I34: 3
B35: 3310204049 | C35: ディーキャリア 倉敷オフィス | D35: 倉敷市寿町8-13 | E35: 086-486-1031 | F35: 20 | G35: 9 | H35: 0 | I35: 11
B36: 3310204007 | C36: あんだんて | D36: 倉敷市東富井803-9 | E36: 086-486-1071 | F36: 6 | G36: 0 | H36: 0 | I36: 0 | J36: R6.3休止
B37: 3310202712 | C37: 就労移行支援事業所 ｉｒｏｄｏｒｉ | D37: 倉敷市水島西栄町1-25 | E37: 086-486-4562 | F37: 10 | G37: 14 | H37: 0 | I37: 5
B38: 3310202639 | C38: 就労移行支援事業所えくすぺ | D38: 倉敷市中庄3523-1 | E38: 086-454-9192 | F38: 20 | G38: 25 | H38: 0 | I38: 5
B39: 3310202936 | C39: 多機能型事業所 あんだす | D39: 倉敷市中庄3524-1 | E39: 086-454-4606 | F39: 11 | G39: 20 | H39: 0 | I39: 2
B40: 3310203587 | C40: Ｐ．Ｐ．Ｐ．ファイター！ | D40: 倉敷市福田町古新田1007番地6 | E40: 086-441-3056 | F40: 20 | G40: 2 | H40: 0 | I40: 8
B41: 3310201722 | C41: 倉敷市ふじ園 | D41: 倉敷市有城710 | E41: 086-429-1393 | F41: 15 | G41: 5 | H41: 0 | I41: 10
B42: 3310500446 | C42: 多機能事業所 ＨａｐｐｙＣｏｍｅＣｏｍｅ | D42: 笠岡市中央町１９－１０ | E42: 070-8338-4425 | F42: 6 | G42: 0 | H42: 0 | I42: 5
A43: 小計 | F43: =SUM(F32:F42) -> 168 | G43: =SUM(G32:G41) -> 156 | H43: =SUM(H32:H41) -> 1 | I43: =SUM(I32:I41) -> 51
...

Sheet 就労継続Ａ
A1: 障害者総合支援法によるサービス体系 | E1: 就労継続支援Ａ型 | I1: =共同生活援助!M1 -> 令和８年９月１日現在
A3: 圏域名 | C3: 事業所名 | D3: 住所 | E3: 電話番号 | F3: 定員 | G3: 初日在籍 | H3: 待機者 | I3: 利用可能者数 | J3: 備考
G4: 計 | H4: 計 | I4: 計
A5: 備前圏域 | B5: 3310103548 | C5: ありがとうファーム | D5: 岡山市北区表町二丁目7番27号 | E5: 086-953-4446 | F5: 20 | G5: 40 | H5: 0 | I5: 5 | L5: 18
B6: 3310104280 | C6: エース | D6: 岡山市北区御津金川339-8 | E6: 0867-24-5185 | F6: 19 | G6: 1 | H6: 0 | I6: 27 | L6: 4
B7: 3310102508 | C7: おあしす | D7: 岡山市北区東古松１－１－２８ | E7: 086-206-1100 | F7: 20 | G7: 26 | H7: 0 | I7: 0 | K7: R8.10.1修正 | L7: 17
B8: 3310103415 | C8: きぼう | D8: 岡山市北区青江五丁目17番27号 | E8: 086-206-1992 | F8: 20 | G8: 28 | H8: 0 | I8: 0 | L8: 11
B9: 3310102169 | C9: クリーンメイト | D9: 岡山市北区広瀬町１０－９ | E9: 086-223-1181 | F9: 20 | G9: 17 | H9: 0 | I9: 3 | L9: 7
B10: 3310105170 | C10: サスケ・アカデミー岡山 | D10: 岡山市北区本町10-22 本町ビル5F | E10: 086-238-8661 | F10: 10 | G10: 42 | H10: 1 | I10: 2 | L10: 1
B11: 3310102680 | C11: サニー | D11: 岡山市北区富田５２２－６ | E11: 086-237-6600 | F11: 20 | G11: 39 | H11: 0 | I11: 0 | L11: 19
B12: 3310102631 | C12: サンクルール今事業所 | D12: 岡山市北区今8-6-14 | E12: 086-246-7016 | F12: 30 | G12: 27 | H12: 0 | I12: 3 | L12: 8
B13: 3310103050 | C13: 就労センターもも | D13: 岡山市北区下足守1784-6 | E13: 086-299-0621 | F13: 10 | G13: 11 | H13: 0 | I13: 0 | L13: 3
B14: 3310102128 | C14: しょうが屋 | D14: 岡山市北区大供1-2-25 | E14: 086-224-7576 | F14: 20 | G14: 8 | H14: 0 | I14: 0 | L14: 13
B15: 3310103662 | C15: 西部仲よし | D15: 岡山市北区野殿西町428-2 | E15: 086-214-2650 | F15: 17 | G15: 17 | H15: 0 | I15: 0 | L15: 21
B16: 3310107101 | C16: ソアーレ | D16: 岡山市北区本町3-6 桃太郎プラザ401 | E16: 086-206-4070 | F16: 20 | G16: 32 | H16: 0 | I16: 8 | L16: 2
B17: 3310105998 | C17: たからさがし | D17: 岡山市北区御津高津120番地12 | E17: 086-724-5003 | F17: 10 | G17: 32 | H17: 0 | I17: 0 | L17: 5
B18: 3310105519 | C18: 多機能型事業所アート＆ジョブセンター | D18: 岡山市北区柳町1-4-8ヒカリホールディングビル208号 | E18: 086-230-2881 | F18: 15 | G18: 16 | H18: 0 | I18: 0 | L18: 22
B19: 3310102904 | C19: トモニー・きずな 平田 | D19: 岡山市北区平田４０７ | E19: 086-243-4838 | F19: 10 | G19: 6 | H19: 0 | I19: 4 | L19: 20
... B25: 3310107465 | C25: 両備アグリウェルネス 錦町事業所 | D25: 岡山市北区錦町7番23号 | E25: 086-201-0224 | F25: 20 | G25: 9 | H25: 0 | I25: 11 | L25: 12
B26: 3310107705 | C26: ＪＡＦＬＯ岡山 | D26: 岡山市中区江並58番地17 | E26: 086-806-5381 | F26: 10 | L26: 25
B27: 3310106012 | C27: 就労支援ワークス長岡 | D27: 岡山市中区長岡87番地3 | E27: 086-206-7815 | F27: 15 | G27: 10 | H27: 0 | I27: 5 | L27: 27
B28: 3310101948 | C28: トモニー・きずな 旭川 | D28: 岡山市中区高島新屋敷515-14 | E28: 086-275-6759 | F28: 30 | G28: 27 | H28: 0 | I28: 3 | L28: 23
B29: 3310103597 | C29: 菜のはな | D29: 岡山市東区古都宿1番1号 | E29: 086-201-7087 | F29: 10 | G29: 10 | H29: 0 | I29: 10 | L29: 26
B30: 3310102672 | C30: 杜の家ファーム | D30: 岡山市中区兼基１０７－２ | E30: 086-279-0068 | F30: 20 | G30: 18 | H30: 0 | I30: 2 | L30: 24
B31: 3310102110 | C31: ＲＣＦ | D31: 岡山市東区草ケ部1346番地1 | E31: 086-297-5864 | F31: 20 | G31: 11 | H31: 0 | I31: 19 | L31: 32
B32: 3310102664 | C32: ＮＰＯ法人けしごやま 希望 | D32: 岡山市東区松新町51-1 | E32: 086-942-3444 | F32: 20 | G32: 29 | H32: 0 | I32: 0 | L32: 29
B33: 3310103233 | C33: クリエイトおひさま | D33: 岡山市東区西大寺東２－１－５０ | E33: 086-201-4123 | F33: 20 | G33: 19 | H33: 1 | I33: 11 | L33: 31
B34: 3310102177 | C34: 西大寺仲よし | D34: 岡山市東区西大寺中２－１６－３３ | E34: 086-942-1770 | F34: 18 | G34: 18 | H34: 0 | I34: 0 | L34: 30
B35: 3310102003 | C35: ドリーム プラネット | D35: 岡山市東区草ヶ部惣利458-1 | E35: 086-239-4447 | F35: 20 | G35: 7 | H35: 0 | I35: 13 | L35: 33
B36: 3310101971 | C36: マルキュー | D36: 岡山市東区九蟠989-2 | E36: 086-948-4309 | F36: 20 | G36: 28 | H36: 0 | I36: 0 | L36: 28
B37: 3310105402 | C37: ＫＡＥＲＵ | D37: 岡山市南区藤田566-126 | E37: 086-238-0730 | F37: 10 | G37: 8 | H37: 0 | I37: 0 | L37: 43
B38: 3310102862 | C38: カリス | D38: 岡山市南区青江６丁目２番３７号 | E38: 086-201-8118 | F38: 20 | G38: 10 | H38: 0 | I38: 0 | L38: 41
... B60: 3313900171 | C60: せのお農園 | D60: 吉備中央町上竹１６３８ | E60: 080-1930-1387 | F60: 15 | G60: 7 | H60: 0 | I60: 8 | L60: 55
A61: 小計 | F61: =SUM(F5:F60) -> 987 | G61: =SUM(G5:G60) -> 928 | H61: =SUM(H5:H60) -> 4 | I61: =SUM(I5:I60) -> 265
A63: 倉敷・井笠圏域 | B63: 3310202217 | C63: 手作り工房まこと | D63: 倉敷市青江839-7 | E63: 086-486-2204 | F63: 10 | G63: 35 | H63: 0 | I63: 0
B64: 3310202274 | C64: お菓子工房まこと | D64: 倉敷市中庄3138-9 | E64: 070-2171-0220 | F64: 10 | G64: 9 | H64: 0 | I64: 0
B65: 3310202407 | C65: おるてっく | D65: 倉敷市玉島阿賀崎5－5－1 | E65: 086-526-8043 | F65: 20 | G65: 4 | H65: 0 | I65: 16
B66: 3310202928 | C66: じあい | D66: 倉敷市玉島3-12-14 | E66: 086-454-7117 | F66: 10 | G66: 5 | H66: 0 | I66: 4
B67: 3310202001 | C67: ハーモニー | D67: 倉敷市児島味野2-2-43 | E67: 086-474-2181 | F67: 20 | G67: 15 | H67: 0 | I67: 5
B68: 3310201664 | C68: アクレス早島 | D68: 倉敷市松島1148-3 船越ビル2F北号事務所 | E68: 086-464-6088 | F68: 20 | G68: 17 | H68: 0 | I68: 3
...

Sheet 就労継続B
A1: 障害者総合支援法によるサービス体系 | E1: 就労継続支援B型 | I1: =共同生活援助!M1 -> 令和８年９月１日現在
A3: 圏域名 | C3: 事業所名 | D3: 住所 | E3: 電話番号 | F3: 定員 | G3: 初日在籍 | H3: 待機者 | I3: 利用可能者数 | J3: 備考
G4: 計 | H4: 計 | I4: 計
A5: 備前圏域 | B5: 3310106657 | C5: アイ・ライフワーク | D5: 岡山市北区西古松2丁目12-20 | E5: 086-250-2431 | F5: 20 | G5: 25 | H5: 0 | I5: 5 | L5: 37
B6: 3310106996 | C6: あいのね | D6: 岡山市北区牟佐900番地10 | E6: 086-238-9470 | F6: 20 | G6: 11 | H6: 0 | I6: 9 | L6: 58
B7: 3310106798 | C7: あいびー岡山 | D7: 岡山市北区北長瀬表町2丁目17番80号 | E7: 086-486-4400 | F7: 20 | G7: 13 | H7: 0 | I7: 7 | L7: 30
B8: 3310104496 | C8: あいぷらす | D8: 岡山市北区天神町6-44 | E8: 086-206-4678 | F8: 20 | G8: 18 | H8: 2 | I8: 2 | L8: 41
B9: 3310107812 | C9: あいぷらす 東古松 | D9: 岡山市北区東古松五丁目1番4号 コーポＮＫ | E9: 086-206-4678 | F9: 20 | L9: 44
B10: 3310106525 | C10: アイル | D10: 岡山市北区青江1丁目6-26 | E10: 086-805-3804 | F10: 20 | G10: 22 | H10: 0 | I10: 0 | L10: 6
B11: 3310101880 | C11: あおば | D11: 岡山市北区中原664番地1先 | E11: 086-275-1626 | F11: 26 | G11: 27 | H11: 0 | I11: 0 | L11: 40
B12: 3310101922 | C12: 青葉作業所 | D12: 岡山市北区丸の内一丁目２番１２号 | E12: 086-234-2530 | F12: 20 | G12: 8 | H12: 0 | I12: 6 | L12: 25
B13: 3310104694 | C13: アショ・ボショ | D13: 岡山市北区鹿田町1-8-10 第5三信ビル 102 | E13: 086-238-6260 | F13: 20 | G13: 31 | H13: 0 | I13: 0 | L13: 31
B14: 3310107242 | C14: あにまるず | D14: 岡山市北区楢津1399番1 | E14: 086-239-8017 | F14: 12 | G14: 10 | H14: 0 | I14: 7 | L14: 48
B15: 3310103548 | C15: ありがとうファーム | D15: 岡山市北区表町三丁目7番5号 | E15: 086-953-4446 | F15: 15 | G15: 29 | H15: 0 | I15: 3 | L15: 4
B16: 3310106210 | C16: ＡＮＴワークス | D16: 岡山市北区撫川1327-3 | E16: 086-259-1881 | F16: 20 | G16: 21 | H16: 0 | I16: 9 | L16: 50
B17: 3310106665 | C17: イロハジョブセンター | D17: 岡山市北区西古松1-28-22 | E17: 086-245-0168 | F17: 20 | G17: 13 | H17: 0 | I17: 7 | L17: 36
B18: 3310102060 | C18: うらら | D18: 岡山市北区富町２－７－３０ | E18: 086-255-4060 | F18: 20 | G18: 22 | H18: 0 | I18: 1 | L18: 46
B19: 3310104280 | C19: エース | D19: 岡山市北区横井上105 | E19: 086-236-8108 | F19: 20 | G19: 21 | H19: 0 | I19: 9 | L19: 20
B20: 3310107986 | C20: エイドワークス岡山店 | D20: 岡山市北区吉備津1208-20-1 | E20: 086-230-6431 | F20: 20 | G20: 6 | I20: 6
B21: 3310101849 | C21: エスポアール・セルプ | D21: 岡山市北区福谷53番地 | E21: 086-284-8004 | F21: 35 | G21: 35 | H21: 0 | I21: 2 | L21: 51
B22: 3310108018 | C22: 笑凪 | D22: 岡山市北区宿231-2 | E22: 090-8400-3777 | F22: 20
B23: 3310107879 | C23: おとなり | D23: 岡山市北区大元上町14-18 | E23: 090-9227-9515 | F23: 20 | L23: 45
B24: 3310107044 | C24: おはな | D24: 岡山市北区表町一丁目9－53 | E24: 080-2911-4882 | F24: 20 | G24: 8 | H24: 0 | I24: 15 | L24: 3
B25: 3310106681 | C25: カモノハシ | D25: 岡山市北区楢津294番地12 | E25: 086-239-7817 | F25: 20 | G25: 33 | H25: 2 | I25: 2 | L25: 49
B26: 3310101674 | C26: 吉備ワークホーム | D26: 岡山市北区祇園８６６ | E26: 086-275-2486 | F26: 40 | G26: 47 | H26: 0 | I26: 2 | L26: 26
B27: 3310107762 | C27: キャリカク岡山 | D27: 岡山県岡山市北区下石井1丁目1番1号 アーバンオフィスビル401号 | E27: 086-201-3422 | F27: 20 | L27: 22
B28: 3310108026 | C28: コスモス岡山 | D28: 岡山県岡山市北区岡南町一丁目2-6 | E28: 086-238-6115 | F28: 20
B29: 3310106756 | C29: こだま | D29: 岡山市北区奉還町2-4-13 | E29: 086-252-7555 | F29: 20 | G29: 19 | H29: 0 | I29: 3 | L29: 55
B30: 3310107382 | C30: さうざんど | D30: 岡山市北区西之町12-4 | E30: 086-244-0888 | F30: 20 | G30: 9 | H30: 0 | I30: 11 | L30: 12
B31: 3310105592 | C31: 視覚障碍者多機能型事業所 みずのわ | D31: 岡山市北区西古松136-7 | E31: 086-230-0374 | F31: 14 | G31: 8 | H31: 0 | I31: 2 | L31: 35
B32: 3310107069 | C32: 就労継続B型事業所 恵那 | D32: 岡山市北区奥田西町16-11 | E32: 086-206-3252 | F32: 20 | G32: 23 | L32: 5
B33: 3310107887 | C33: 就労継続支援Ｂ型事業所 エンターテインメントアカデミー でじるみ岡山駅前 | D33: 岡山市北区駅元町22-13 西口駅前ビル2F北 | E33: 086-250-8463 | F33: 20 | L33: 19
B34: 3310104843 | C34: 就労継続支援Ｂ型事業所カーザ | D34: 岡山市北区駅元町13-25 | E34: 086-728-0363 | F34: 20 | G34: 21 | H34: 0 | I34: 11 | L34: 18
B35: 3310107119 | C35: 就労継続支援Ｂ型事業所グリーンデイズ | D35: 岡山市北区清輝橋4丁目4-32 101号 | E35: 090-6419-8972 | F35: 20 | G35: 9 | H35: 0 | I35: 11 | L35: 34
B36: 3310107952 | C36: 就労継続支援Ｂ型みらいえ | D36: 岡山市北区青江4丁目12-16（4丁目12-17） | E36: 090-7379-4282 | F36: 20 | G36: 9 | I36: 11
B37: 3310105873 | C37: ジョーマ | D37: 岡山市北区大供1-5-2 | E37: 086-221-1380 | F37: 20 | G37: 13 | H37: 0 | I37: 20 | L37: 11
B38: 3310100858 | C38: 障害者支援施設 ももぞの福祉園 | D38: 岡山市北区粟井2778-4 | E38: 086-299-0630 | F38: 20 | G38: 17 | H38: 0 | I38: 0 | L38: 16
B39: 3310100726 | C39: 昭和町 仲よし | D39: 岡山市北区昭和町6-26 | E39: 086-214-5103 | F39: 32 | G39: 35 | H39: 0 | I39: 0 | L39: 9
B40: 3310101955 | C40: ステップハウス わ！ | D40: 岡山市北区表町1-4-64 | E40: 086-222-8686 | F40: 14 | G40: 17 | H40: 0 | I40: 0 | L40: 1
B41: 3310103688 | C41: スマイルワーク | D41: 岡山市北区野田3-13-37 | E41: 086-244-7070 | F41: 20 | G41: 11 | H41: 0 | I41: 14 | L41: 15
...
