Workbook

Sheet 共同生活援助
A1: 障害者総合支援法によるサービス体系 | E1: 共同生活援助 | M1: 令和８年９月１日現在
A3: 圏域名 | B3: 事業所番号 | C3: 事業所名 | D3: 住所 | E3: 電話番号 | G3: 在籍 | J3: 待機者数 | M3: 利用可能者数 | P3: 備考
F4: 定員 | G4: 初日在籍 | H4: 男 | I4: 女 | J4: 男 | K4: 女 | L4: 計 | M4: 男 | N4: 女 | O4: 計
A5: 備前圏域 | B5: 3320100062 | C5: 愛育寮 地域生活ホーム | D5: 岡山市北区祇園８６６ | E5: 086-275-4644 | F5: 20 | G5: 18 | H5: 7 | I5: 11 | J5: 0 | K5: 0 | L5: 0 | M5: 0 | N5: 0 | O5: 0 | R5: 5
B6: 3320100575 | C6: あおえ Hopeful | D6: 岡山市北区青江3丁目1番9号 | E6: 086-224-7305 | F6: 10 | G6: 10 | H6: 2 | I6: 8 | J6: 0 | K6: 0 | L6: 0 | O6: 0 | R6: 1
B7: 3320100039 | C7: いづみ寮 地域生活ホーム | D7: 岡山市北区中原６６４－１先 | E7: 086-275-1816 | F7: 30 | G7: 28 | H7: 17 | I7: 11 | J7: 0 | K7: 0 | L7: 0 | M7: 1 | N7: 1 | O7: 2 | R7: 16
B8: 3320100807 | C8: ヴィレッジそうらい | D8: 岡山県岡山市北区平野655-79 | E8: 086-239-6519 | F8: 8 | M8: 5 | N8: 3 | O8: 8
B9: 3320100427 | C9: おうちだ | D9: 岡山市北区撫川848 | E9: 086-238-1802 | F9: 20 | G9: 20 | H9: 12 | I9: 8 | J9: 15 | K9: 7 | L9: 22 | M9: 0 | N9: 0 | O9: 0 | R9: 21
B10: 3320100070 | C10: ぎおんハイツ 地域生活ホーム | D10: 岡山市北区中原６６４－１先 | E10: 086-275-9701 | F10: 24 | G10: 23 | H10: 15 | I10: 8 | J10: 0 | K10: 0 | L10: 0 | M10: 1 | N10: 0 | O10: 1 | R10: 17
B11: 3320100187 | C11: 吉備地域生活ホーム | D11: 岡山市北区祇園８６６ | E11: 086-275-2486 | F11: 6 | G11: 6 | H11: 4 | I11: 2 | J11: 0 | K11: 1 | L11: 1 | M11: 0 | N11: 0 | O11: 0 | R11: 6
B12: 3320100286 | C12: グリーンハーツ | D12: 岡山市北区表町3-7-5 | E12: 086-953-4446 | F12: 10 | G12: 10 | H12: 4 | I12: 6 | J12: 2 | K12: 2 | L12: 4 | M12: - | N12: - | O12: 0 | R12: 19
B13: 3320100815 | C13: ぐるーぷほーむ あいりずむ | D13: 岡山県岡山市北区高松265-1 | E13: 086-250-4050 | F13: 7
B14: 3320100450 | C14: グループホーム リーフ | D14: 岡山市北区牟佐942番地6 | E14: 086-289-6172 | F14: 4 | G14: 4 | H14: 0 | I14: 4 | J14: 0 | K14: 0 | L14: 0 | M14: 0 | N14: 0 | O14: 0 | R14: 26
B15: 3320100047 | C15: グループホーム 一二三 | D15: 岡山市北区富町2丁目16-2 | E15: 086-255-1585 | F15: 21 | G15: 15 | H15: 7 | I15: 8 | J15: 0 | K15: 0 | L15: 0 | M15: 2 | N15: 4 | O15: 6 | R15: 20
B16: 3320100401 | C16: グループホームＩＲＯＨＡ | D16: 岡山市北区野田2丁目6-11 | E16: 086-245-0168 | F16: 8 | G16: 7 | H16: 7 | I16: 0 | J16: 0 | K16: 0 | L16: 0 | M16: 1 | N16: 0 | O16: 1 | R16: 27
B17: 3320100245 | C17: グループホームつどい | D17: 岡山市北区中井町1丁目5番40 | E17: 086-289-5092 | F17: 16 | G17: 15 | H17: 15 | I17: 0 | J17: 0 | K17: 0 | L17: 0 | M17: 1 | N17: 0 | O17: 1 | R17: 14
B18: 3320800026 | C18: グループホーム事業所「ももぞの」 | D18: 岡山市北区足守１６８５－１－１０１ | E18: 086-295-0632 | F18: 56 | G18: 52 | H18: 27 | I18: 25 | J18: 5 | K18: 5 | L18: 10 | M18: 2 | N18: 1 | O18: 3 | R18: 11
B19: 3320100641 | C19: 恵生会みなんの家 | D19: 岡山市北区田中185-103 ハピネス田中301号401号 | E19: 086-241-1212 | F19: 4 | G19: 5 | H19: 0 | I19: 5 | J19: 0 | K19: 0 | L19: 0 | M19: 1 | N19: 1 | O19: 2 | R19: 22
B20: 3320100666 | C20: さうざんど | D20: 岡山市北区津高1507－194 | E20: 086-244-0888 | F20: 14 | G20: 8 | H20: 8 | I20: 0 | J20: 0 | K20: 0 | L20: 0 | M20: 11 | N20: 0 | O20: 5 | P20: (2名利用の２室を含む） | R20: 8
B21: 3320100617 | C21: スターホームOKAYAMA | D21: 岡山市北区牟佐804 | E21: 086-229-3370 | F21: 20 | G21: 9 | H21: 6 | I21: 3 | J21: 2 | K21: 2 | L21: 4 | M21: 2 | N21: 5 | O21: 7 | R21: 25
B22: 3320100781 | C22: スマイルテラス | D22: 岡山県岡山市北区舟橋町5-23 | E22: 086-206-2517 | F22: 6 | G22: 5 | H22: 2 | I22: 3 | J22: 0 | K22: 1 | L22: 1 | O22: 1 | R22: 66
B23: 3320100153 | C23: 生活支援ホームだいく | D23: 岡山市北区大供１－２－２５ | E23: 086-235-2808 | F23: 44 | G23: 40 | H23: 23 | I23: 17 | J23: 0 | K23: 0 | L23: 0 | M23: 0 | N23: 0 | O23: 0 | R23: 12
B24: 3320100682 | C24: ソーシャルインクルーホーム岡山門前 | D24: 岡山市北区門前302-1 | E24: 086-287-8711 | F24: 20 | G24: 20 | H24: 10 | I24: 10 | J24: 5 | K24: 5 | L24: 10 | M24: 0 | N24: 0 | O24: 0 | R24: 4
B25: 3320100658 | C25: ソーシャルインクルーホーム岡山建部町 | D25: 岡山市北区建部町中田340-2 | E25: 086-722-5575 | F25: 20 | G25: 17 | H25: 9 | I25: 8 | J25: 1 | K25: 1 | L25: 2 | M25: 1 | N25: 2 | O25: 3 | R25: 7
B26: 3320100690 | C26: ソーシャルインクルーホーム岡山今保 | D26: 岡山市北区今保652-1 | E26: 086-245-2800 | F26: 20 | G26: 17 | H26: 10 | I26: 7 | J26: 1 | K26: 1 | L26: 2 | M26: 0 | N26: 3 | O26: 3 | R26: 10
B27: 3320100831 | C27: ドルフィンＢＡＳＥ ｓｏｒａ | D27: 岡山市北区佐山2107番地5 | E27: 086-486-4400 | F27: 7 | P27: R8.9.1新規
B28: 3320100237 | C28: 番町仲よし | D28: 岡山市北区番町2丁目7番10 | E28: 086-206-1500 | F28: 10 | G28: 10 | H28: 5 | I28: 5 | J28: 0 | K28: 0 | L28: 0 | M28: 0 | N28: 0 | O28: 0 | R28: 18
B29: 3320100104 | C29: ひまわりホーム・しらゆりホーム | D29: 岡山市北区谷万成２丁目２－４７ | E29: 086-251-3566 | F29: 12 | G29: 11 | H29: 6 | I29: 5 | J29: 0 | K29: 1 | L29: 1 | M29: 0 | N29: 0 | O29: 0 | R29: 13
B30: 3320100542 | C30: プラチナウイング | D30: 岡山市北区今1丁目1-1 グランデュール今2号館 503号 | E30: 086-241-7878 | F30: 8 | G30: 7 | H30: 4 | I30: 3 | J30: 0 | K30: 0 | L30: 0 | M30: 1 | N30: 0 | O30: 1 | R30: 9
B31: 3320100260 | C31: みなん地域生活ホーム | D31: 岡山市北区平田407 | E31: 086-805-3804 | F31: 17 | G31: 16 | H31: 9 | I31: 7 | J31: 2 | K31: 0 | L31: 2 | M31: 0 | N31: 0 | O31: 0 | R31: 24
B32: 3320100609 | C32: みらいのたね岡山 | D32: 岡山市北区七日市東町6-15 | E32: 086-230-1207 | F32: 10 | G32: 5 | H32: 3 | I32: 2 | J32: 0 | K32: 0 | L32: 0 | M32: 2 | N32: 3 | O32: 5 | R32: 2
B33: 3320100211 | C33: ももっ子ハウス | D33: 岡山市北区中原497-1 | E33: 086-275-8333 | F33: 14 | G33: 8 | H33: 8 | I33: 0 | J33: 0 | K33: 0 | L33: 0 | M33: - | N33: - | O33: 6 | R33: 15
B34: 3320100591 | C34: よつば院 | D34: 岡山市北区三野3丁目7-1 ストークマンション１ １０８号 | E34: 070-1745-2103 | F34: 18 | G34: 0 | H34: 0 | I34: 0 | J34: 0 | K34: 0 | L34: 0 | M34: 0 | N34: 2 | O34: 2 | R34: 3
B35: 3320100054 | C35: わかば寮 地域生活ホーム | D35: 岡山市北区平田４０７ | E35: 086-805-3804 | F35: 21 | G35: 21 | H35: 16 | I35: 5 | J35: 0 | K35: 0 | L35: 0 | M35: 0 | N35: 0 | O35: 0 | R35: 23
B36: 3320100757 | C36: 風の丘 | D36: 岡山市中区今在家374番地1 Forest Ｃ棟 | E36: 086-275-3777 | F36: 6 | G36: 5 | H36: 3 | I36: 2 | J36: 1 | L36: 1 | O36: 1 | R36: 33
B37: 3320100823 | C37: グループホームうぃ～る | D37: 岡山市中区清水二丁目8-51-8 | E37: 086-206-3270 | F37: 9
B38: 3320100336 | C38: グループホーム バディーズ平井/べスティーズ平井 | D38: 岡山市中区平井17-26 | E38: 086-230-1726 | F38: 20 | G38: 18 | H38: 8 | I38: 10 | J38: 0 | K38: 0 | L38: 0 | M38: 2 | N38: 0 | O38: 2 | R38: 39
B39: 3320100088 | C39: グループホーム ひゅうまん | D39: 岡山市中区赤坂南新町６番１号 | E39: 086-272-0625 | F39: 23 | G39: 22 | H39: 10 | I39: 12 | J39: 0 | K39: 0 | L39: 0 | M39: 0 | N39: 0 | O39: 0 | R39: 34
B40: 3320100419 | C40: グループホームＲＡＳＩＥＬ平井 | D40: 岡山市中区平井6丁目8-17 | E40: 086-271-5551 | F40: 20 | G40: 19 | H40: 10 | I40: 9 | J40: 0 | K40: 5 | L40: 5 | M40: 0 | N40: 0 | O40: 0 | R40: 40
B41: 3320100310 | C41: グループホームＳＯＲＴＥ | D41: 岡山市中区浜3丁目5-55(103) | E41: 086-201-2143 | F41: 18 | G41: 18 | H41: 3 | I41: 15 | J41: 0 | K41: 0 | L41: 0 | M41: 0 | N41: 0 | O41: 0 | R41: 36
B42: 3320100724 | C42: グループホームアクラ | D42: 岡山市中区浜3丁目2-17 | E42: 090-6244-1126 | F42: 6 | G42: 6 | H42: 3 | I42: 3 | J42: 0 | K42: 0 | L42: 0 | M42: - | N42: - | O42: 0 | R42: 37
B43: 3320100377 | C43: グループホームみらいえ | D43: 岡山市中区湊157-6 | E43: 086-206-7077 | F43: 28 | G43: 22 | H43: 7 | I43: 15 | J43: 0 | K43: 0 | L43: 0 | M43: 5 | N43: 1 | O43: 6 | R43: 30
B44: 3320100765 | C44: グループホーム結月 | D44: 岡山市中区桑野541番地45 | E44: 080-1920-1177 | F44: 5 | G44: 0 | H44: 0 | I44: 0 | J44: 0 | K44: 0 | L44: 0 | M44: 0 | N44: 0 | O44: 0 | R44: 29
B45: 3320100179 | C45: 生活支援なごみ荘 | D45: 岡山市中区倉田208-14 | E45: 086-224-2177 | F45: 16 | G45: 14 | H45: 7 | I45: 7 | J45: 0 | K45: 0 | L45: 0 | M45: 2 | N45: 1 | O45: 3 | R45: 35
B46: 3320100120 | C46: （財）林精神医学研究所 | D46: 岡山市中区浜472 | E46: 086-272-8811 | F46: 33 | G46: 31 | H46: 18 | I46: 13 | J46: 1 | K46: 0 | L46: 1 | M46: 2 | N46: 0 | O46: 2 | R46: 38
B47: 3320100567 | C47: ぺポロンのおうち | D47: 岡山市中区山崎172-10 | E47: 086-201-1169 | F47: 7 | G47: 0 | H47: 0 | I47: 0 | J47: 0 | K47: 0 | L47: 0 | M47: - | N47: - | O47: 0 | R47: 28
B48: 3320100294 | C48: わんカーサ１ | D48: 岡山市中区清水二丁目4番25号 303 | E48: 086-273-4800 | F48: 18 | G48: 18 | H48: 6 | I48: 12 | J48: 0 | K48: 0 | L48: 0 | M48: 0 | N48: 0 | O48: 0 | R48: 32
B49: 3320100203 | C49: ＮＰＯ法人けしごやま 勇気 | D49: 岡山市東区松新町208-4 206号 | E49: 086-942-3444 | F49: 12 | G49: 12 | H49: 7 | I49: 5 | J49: 0 | K49: 0 | L49: 0 | M49: 0 | N49: 0 | O49: 0 | R49: 42
B50: 3320100716 | C50: 共同生活援助事業所 アンジョリロゼール | D50: 岡山市東区可知1丁目381番地18 | E50: 090-9738-7185 | F50: 7 | G50: 1 | H50: 1 | I50: 0 | J50: 0 | K50: 0 | L50: 0 | M50: 2 | N50: 4 | O50: 6 | R50: 48
B51: 3320100633 | C51: グループホームのあ 岡山 | D51: 岡山市東区可知5丁目127番地13 | E51: 070-5077-7577 | F51: 7 | G51: 6 | H51: 3 | I51: 3 | J51: 0 | K51: 0 | L51: 0 | M51: 0 | N51: 0 | O51: 0 | R51: 47
B52: 3320100740 | C52: グループホーム住倉岡山瀬戸 | D52: 岡山市東区瀬戸町笹岡793-1 | E52: 086-238-7088 | F52: 27 | G52: 13 | H52: 6 | I52: 7 | J52: 0 | K52: 0 | L52: 0 | M52: 14 | N52: 3 | O52: 17 | R52: 46
B53: 3320100476 | C53: グループホーム西大寺 | D53: 岡山市東区西大寺中一丁目8番10号 | E53: 086-942-2200 | F53: 6 | G53: 5 | H53: 3 | I53: 2 | J53: 0 | K53: 0 | L53: 0 | M53: 1 | O53: 1 | R53: 49
B54: 3320100252 | C54: 閑谷ライフステージ・せと | D54: 岡山市東区瀬戸町下471-5 | E54: 086-201-1567 | F54: 34 | G54: 32 | H54: 26 | I54: 6 | J54: 0 | K54: 0 | L54: 0 | M54: 1 | N54: 1 | O54: 2 | R54: 45
B55: 3320100229 | C55: すだちホームかんざき | D55: 岡山市東区神崎町1321-1 | E55: 086-946-2300 | F55: 10 | G55: 10 | H55: 7 | I55: 3 | J55: 0 | K55: 0 | L55: 0 | M55: 0 | N55: 0 | O55: 0 | R55: 43
B56: 3320100799 | C56: ソーシャルインクルーホーム岡山西大寺浜 | D56: 岡山県岡山市東区西大寺浜311 | E56: 086-201-6657 | F56: 10 | R56: 50
B57: 3320100708 | C57: ＮＯＩＥ ＯＫＡＹＡＭＡ | D57: 岡山市東区神崎町148-1 | E57: 086-238-7961 | F57: 10 | G57: 18 | H57: 9 | I57: 9 | J57: 0 | K57: 0 | L57: 0 | M57: 1 | N57: 1 | O57: 2 | R57: 44
B58: 3320100518 | C58: １２ぱーそんず | D58: 岡山市南区新保509-1 | E58: 086-259-0957 | F58: 12 | G58: 7 | H58: 1 | I58: 6 | J58: 0 | K58: 0 | L58: 0 | M58: 4 | N58: 1 | O58: 5 | R58: 53
B59: 3320100013 | C59: 泉学園 共同生活援助事業所 | D59: 岡山市南区福富西１丁目14番21号 | E59: 086-264-2882 | F59: 62 | G59: 57 | H59: 33 | I59: 24 | J59: 5 | K59: 0 | L59: 5 | M59: 5 | N59: 0 | O59: 5 | R59: 63
B60: 3320100278 | C60: グループホーム ジュエル | D60: 岡山市南区豊成3丁目19-15 ミヤコハイツ豊成701 | E60: 090-6417-0039 | F60: 12 | G60: 12 | H60: 0 | I60: 12 | J60: 0 | K60: 0 | L60: 0 | M60: 0 | N60: 0 | O60: 0 | R60: 64
B61: 3320100559 | C61: グループホームCoccole | D61: 岡山市南区浜野4丁目14番20号 | E61: 090-4800-0904 | F61: 6 | G61: 6 | H61: 3 | I61: 3 | J61: 0 | K61: 0 | L61: 0 | M61: 0 | N61: 0 | O61: 0 | R61: 54
B62: 3320100385 | C62: グループホームきりん | D62: 岡山市南区藤田566番地112 | E62: 086-236-7072 | F62: 14 | G62: 9 | H62: 7 | I62: 2 | J62: 0 | K62: 0 | L62: 0 | M62: 2 | N62: 3 | O62: 5 | R62: 61
B63: 3320100534 | C63: グループホーム優しい里/優しい風 | D63: 岡山市南区新保506-5 | E63: 050-3184-4915 | F63: 29 | G63: 23 | H63: 12 | I63: 11 | J63: 0 | K63: 0 | L63: 0 | M63: 5 | N63: 1 | O63: 6 | P63: 男女どちらでも可 | R63: 52
B64: 3320100484 | C64: コラール | D64: 岡山市南区万倍111-1 | E64: 086-250-2077 | F64: 6 | G64: 6 | H64: 3 | I64: 3 | J64: 0 | K64: 0 | L64: 0 | M64: 0 | N64: 0 | O64: 0 | R64: 65
B65: 3320100773 | C65: すまいる | D65: 岡山市南区三浜町2-10-16 | E65: 072-247-7714 | F65: 4 | R65: 58
B66: 3320100195 | C66: 地域移行型ホーム コスモス | D66: 岡山市南区浦安本町100番地の6 | E66: 086-261-0131 | F66: 20 | G66: 11 | H66: 8 | I66: 3 | J66: 1 | K66: 2 | L66: 3 | M66: 1 | N66: 5 | O66: 6 | R66: 56
B67: 3320100021 | C67: にこにこホーム | D67: 岡山市南区浦安本町２０９ | E67: 086-263-9201 | F67: 18 | G67: 16 | H67: 11 | I67: 5 | J67: 1 | K67: 1 | L67: 2 | M67: 0 | N67: 0 | O67: 0 | R67: 57
B68: 3320100583 | C68: プレシャスワン新福 | D68: 岡山市南区新福1丁目6-13-103 | E68: 080-5358-4050 | F68: 4 | G68: 2 | H68: 1 | I68: 1 | J68: 2 | K68: 0 | L68: 2 | M68: - | N68: - | O68: 0 | R68: 51
B69: 3320100443 | C69: ポコ ア ポコ | D69: 岡山市南区西市597-20 | E69: 070-9036-4518 | F69: 18 | G69: 18 | H69: 15 | I69: 3 | R69: 59
B70: 3320100344 | C70: ＲＩＴＡハウス 浜野事業所 | D70: 岡山市南区浜野2丁目3番57号 | E70: 086-239-5508 | F70: 33 | G70: 31 | H70: 18 | I70: 13 | J70: 2 | K70: 0 | L70: 2 | M70: 2 | N70: 0 | O70: 2 | R70: 62
B71: 3320100625 | C71: RITAハウス 芳泉事業所 | D71: 岡山市南区芳泉2丁目5-56 | E71: 086-239-5508 | F71: 44 | G71: 29 | H71: 19 | I71: 10 | J71: 6 | K71: 6 | L71: 12 | M71: 1 | N71: 2 | O71: 3 | R71: 60
B72: 3320100492 | C72: わおん岡山 | D72: 岡山市南区浜野四丁目19番25号 | E72: 080-4114-0590 | F72: 51 | G72: 30 | H72: 17 | I72: 13 | J72: 1 | K72: 3 | L72: 4 | M72: 6 | N72: 11 | O72: 17 | R72: 55
B73: 3320400017 | C73: 共同生活事業所 のぞみホーム | D73: 玉野市木目１４６１番地 | E73: 0863-71-0110 | F73: 20 | G73: 20 | H73: 11 | I73: 9 | J73: 1 | K73: 0 | L73: 1 | M73: 0 | N73: 0 | O73: 0 | R73: 70
B74: 3320400058 | C74: グループホームあかつき 田井 | D74: 玉野市田井3丁目3-25 | E74: 0863-23-4012 | F74: 4 | G74: 3 | H74: 3 | I74: 0 | J74: 0 | K74: 0 | L74: 0 | M74: 1 | N74: 0 | O74: 1 | R74: 68
B75: 3320400033 | C75: 玉野スマイルタウン グループホームつばめ苑 | D75: 玉野市田井6-8-1 | E75: 0863-31-9711 | F75: 35 | G75: 34 | H75: 25 | I75: 9 | J75: 6 | K75: 4 | L75: 10 | M75: 1 | N75: 1 | O75: 2 | R75: 69
B76: 3321100053 | C76: グループホームひなせ | D76: 備前市日生町日生803-1 | E76: 0869-72-9808 | F76: 14 | G76: 13 | H76: 5 | I76: 8 | J76: 0 | K76: 0 | L76: 0 | M76: 0 | N76: 0 | O76: 0 | R76: 74
B77: 3321100012 | C77: グループホーム音と光の家 | D77: 備前市穂浪２１０９－２ | E77: 0869-67-0527 | F77: 10 | G77: 9 | H77: 5 | I77: 4 | J77: 0 | K77: 0 | L77: 0 | M77: 1 | N77: 0 | O77: 1 | R77: 72
B78: 3322200019 | C78: とうびホーム | D78: 備前市西片上193-1 | E78: 0869-63-7200 | F78: 13 | G78: 12 | H78: 6 | I78: 6 | J78: 0 | K78: 0 | L78: 0 | M78: 0 | N78: 1 | O78: 1 | R78: 71
B79: 3321100046 | C79: ひだすきホーム | D79: 備前市浦伊部260 | E79: 0869-63-3477 | F79: 6 | G79: 6 | H79: 4 | I79: 2 | J79: 0 | K79: 0 | L79: 0 | M79: 0 | N79: 0 | O79: 0 | R79: 73
B80: 3321200028 | C80: ａｔハウスおさふね | D80: 瀬戸内市長船町福岡149番地1 | E80: 0869-26-8775 | F80: 20 | G80: 20 | H80: 10 | I80: 10 | J80: 9 | K80: 7 | L80: 16 | M80: 0 | N80: 0 | O80: 0 | R80: 76
B81: 3321200051 | C81: ソーシャルインクルーホーム瀬戸内長船町 | D81: 瀬戸内市長船町長船1100-3 | E81: 0869-66-7211 | F81: 20 | G81: 20 | H81: 10 | I81: 10 | J81: 0 | K81: 0 | L81: 0 | M81: 0 | N81: 0 | O81: 0 | R81: 75
B82: 3321200036 | C82: ゆうわ | D82: 瀬戸内市邑久町尻海１１４５ | E82: 0869-25-0045 | F82: 4 | G82: 2 | H82: 2 | I82: 0 | J82: 0 | K82: 0 | L82: 0 | M82: 2 | N82: 0 | O82: 2 | R82: 77
B83: 3321300042 | C83: 共同生活援助ビルド | D83: 赤磐市松木655-1 あかいわハートフル太陽２階 | E83: 070-3773-5537 | F83: 5 | G83: 4 | H83: 4 | J83: 0 | L83: 0 | M83: 1 | O83: 1 | R83: 79
B84: 3321300034 | C84: グループホーム スプリングカムカム | D84: 赤磐市熊崎１９３－１ | E84: 086-955-6758 | F84: 12 | G84: 12 | H84: 12 | I84: 0 | J84: 0 | K84: 0 | L84: 0 | M84: 0 | N84: 0 | O84: 0 | R84: 78
B85: 3321300059 | C85: 桜が丘東グループホーム | D85: 赤磐市桜が丘東5丁目5-322 | E85: 086-954-4106 | F85: 7 | G85: 7 | H85: 0 | I85: 7 | J85: 0 | K85: 0 | L85: 0 | M85: 0 | N85: 0 | O85: 0 | R85: 80
B86: 3321300067 | C86: ともにホーム 夢の木 | D86: 赤磐市日古木766-1 | E86: 086-956-2810 | F86: 16 | G86: 16 | H86: 8 | I86: 8 | J86: 3 | K86: 4 | L86: 7 | M86: 0 | N86: 0 | O86: 0 | R86: 81
B87: 3322300066 | C87: 共同生活援助プラチナブルーム | D87: 和気町益原212-5 | E87: 0869-93-5151 | F87: 7 | R87: 86
B88: 3322300033 | C88: グループホーム結 | D88: 和気町日笠下689番地 | E88: 0869-93-4750 | F88: 5 | G88: 5 | H88: 5 | I88: 0 | J88: 0 | K88: 0 | L88: 0 | M88: 0 | N88: 0 | O88: 0 | R88: 85
B89: 3322300017 | C89: 閑谷福祉会 地域ホーム | D89: 和気町日笠下1613-5 | E89: 0869-92-1155 | F89: 28 | G89: 28 | H89: 19 | I89: 9 | J89: 0 | K89: 0 | L89: 0 | M89: 0 | N89: 0 | O89: 0 | R89: 84
B90: 3322300058 | C90: ソーシャルインクルーホーム和気町衣笠 | D90: 和気町衣笠1001-1 | E90: 0869-92-2311 | F90: 20 | G90: 19 | H90: 9 | I90: 10 | J90: 1 | K90: 0 | L90: 1 | M90: 1 | N90: 0 | O90: 1 | R90: 82
B91: 3322300025 | C91: 藤の里地域生活ホーム | D91: 和気町藤野1025-2 | E91: 0869-93-3898 | F91: 27 | G91: 26 | H91: 17 | I91: 9 | J91: 0 | K91: 0 | L91: 0 | M91: 0 | N91: 0 | O91: 0 | R91: 83
B92: 3323900039 | C92: 岡山ハーモニー | D92: 吉備中央町竹部1973 | E92: 0866-56-7890 | F92: 8 | G92: 7 | H92: 7 | I92: 0 | J92: 0 | K92: 0 | L92: 0 | M92: 1 | N92: 0 | O92: 1 | R92: 89
B93: 3323900013 | C93: 吉備の里地域生活ホーム | D93: 吉備中央町上野2470-6 | E93: 0866-56-6422 | F93: 105 | G93: 100 | H93: 68 | I93: 32 | J93: 0 | K93: 0 | L93: 0 | M93: 3 | N93: 2 | O93: 5 | R93: 88
B94: 3323900047 | C94: ハートフル きらり | D94: 吉備中央町上加茂530-4 | E94: 0866-54-0067 | F94: 12 | G94: 10 | H94: 10 | I94: 0 | J94: 0 | K94: 0 | L94: 0 | M94: 2 | N94: 0 | O94: 2 | R94: 87
A95: 小計 | F95: =SUM(F5:F94) -> 1568 | G95: =SUM(G5:G94) -> 1307 | H95: =SUM(H5:H94) -> 761 | I95: =SUM(I5:I94) -> 546 | J95: =SUM(J5:J94) -> 73 | K95: =SUM(K5:K94) -> 58 | L95: =SUM(L5:L94) -> 131 | M95: =SUM(M5:M94) -> 100 | ... O95: =SUM(O5:O94) -> 165
A97: 倉敷・井笠圏域 | B97: 3320200284 | C97: クローバー | D97: 倉敷市児島小川町911-43 | E97: 086-486-5240 | F97: 6 | G97: 7 | H97: 3 | I97: 4 | J97: 0 | K97: 0 | L97: 0 | O97: 1
B98: 3320200219 | C98: グループホームふうりん | D98: 倉敷市真備町尾崎979－2 | E98: 086-454-5930 | F98: 5 | G98: 5 | H98: 5 | I98: 0 | J98: 0 | K98: 0 | L98: 0 | O98: 3
B99: 3320200250 | C99: まことの杜 | D99: 倉敷市四十瀬122-3 | E99: 086-442-8228 | F99: 18 | G99: 18 | H99: 13 | I99: 5 | J99: 0 | K99: 0 | L99: 0 | M99: 0 | N99: 0 | O99: 0
B100: 3320200151 | C100: ふたば | D100: 倉敷市連島町鶴新田530-2 | E100: 086-486-5678 | F100: 9 | G100: 10 | H100: 0 | I100: 10 | J100: 0 | K100: 10 | L100: 10 | M100: 0 | N100: 0 | O100: 0
B101: 3320200276 | C101: ＧＨぴあ | D101: 倉敷市神田1-13-29 | E101: 080-6318-3876 | F101: 4 | G101: 2 | H101: 2 | I101: 0 | J101: 0 | K101: 0 | L101: 0 | O101: 1
B102: 3320200086 | C102: グループホームひなた | D102: 倉敷市水島東弥生町12-5 | E102: 086-446-7688 | F102: 7 | G102: 7 | H102: 0 | I102: 7 | J102: 0 | K102: 0 | L102: 0 | M102: 0 | N102: 0 | O102: 0
...

Sheet 施設入所支援
A1: 障害者総合支援法によるサービス体系 | E1: 施設入所支援 | N1: =共同生活援助!M1 -> 令和８年９月１日現在
A3: 圏域名 | B3: 事業所番号 | C3: 事業所名 | D3: 住所 | E3: 電話番号 | F3: 定員 | H3: 在籍 | K3: 待機者 | N3: 利用可能者数 | P3: 備考
G4: 初日在籍 | H4: 男 | I4: 女 | J4: 男 | K4: 女 | L4: 計 | M4: 男 | N4: 女 | O4: 計
A5: 備前圏域 | B5: 3310101724 | C5: 愛育寮 | D5: 岡山市北区祇園８６６ | E5: 086-275-4644 | F5: 62 | G5: 60 | H5: 27 | I5: 33 | J5: 32 | K5: 52 | L5: 84 | M5: 0 | N5: 0 | O5: 0 | R5: 5
B6: 3310102995 | C6: 旭川学園 | D6: 岡山市北区祇園８６６ | E6: 086-275-4647 | F6: 20 | G6: 20 | H6: 17 | I6: 3 | J6: 0 | K6: 0 | L6: 0 | M6: 0 | N6: 0 | O6: 0 | R6: 6
B7: 3310102276 | C7: いづみ寮 | D7: 岡山市北区中原６６４－１ | E7: 086-275-1816 | F7: 75 | G7: 73 | H7: 63 | I7: 10 | J7: 99 | K7: 13 | L7: 112 | M7: 0 | N7: 0 | O7: 0 | R7: 7
B8: 3310101674 | C8: 吉備ワークホーム | D8: 岡山市北区祇園８６６ | E8: 086-275-2486 | F8: 30 | G8: 24 | H8: 19 | I8: 5 | J8: 0 | K8: 0 | L8: 0 | O8: 5 | R8: 3
B9: 3310101682 | C9: 竜ノ口寮 | D9: 岡山市北区祇園８６６ | E9: 086-275-3216 | F9: 80 | G9: 79 | H9: 39 | I9: 40 | J9: 24 | K9: 12 | L9: 36 | M9: 1 | N9: 0 | O9: 1 | R9: 4
B10: 3310102367 | C10: のぞみ寮 | D10: 岡山市北区平田４０７ | E10: 086-805-3800 | F10: 40 | G10: 39 | H10: 22 | I10: 17 | J10: 5 | K10: 3 | L10: 8 | M10: 1 | N10: 0 | O10: 1 | R10: 8
B11: 3310100841 | C11: 障害者支援施設 ももぞの育成園 | D11: 岡山市北区粟井2786-2 | E11: 086-299-0623 | F11: 40 | G11: 40 | H11: 31 | I11: 9 | J11: 21 | K11: 8 | L11: 29 | M11: 0 | N11: 0 | O11: 0 | R11: 2
B12: 3310100858 | C12: 障害者支援施設 ももぞの福祉園 | D12: 岡山市北区粟井2778-4 | E12: 086-299-0630 | F12: 35 | G12: 31 | H12: 25 | I12: 6 | J12: 6 | K12: 5 | L12: 11 | M12: 0 | N12: 0 | O12: 0 | R12: 1
B13: 3310102375 | C13: わかば寮 | D13: 岡山市北区平田４０７ | E13: 086-805-3804 | F13: 70 | G13: 70 | H13: 47 | I13: 23 | J13: 47 | K13: 26 | L13: 73 | M13: 0 | N13: 0 | O13: 0 | R13: 9
B14: 3310102649 | C14: 岡星寮 | D14: 岡山市中区原尾島4-17-37 | E14: 086-272-1072 | F14: 40 | G14: 40 | H14: 24 | I14: 16 | J14: 2 | K14: 4 | L14: 6 | M14: 0 | N14: 0 | O14: 0 | R14: 10
B15: 3310101930 | C15: 障害者支援施設 ひゅうまん | D15: 岡山市中区赤坂南新町6番1号 | E15: 086-272-0625 | F15: 40 | G15: 40 | H15: 27 | I15: 13 | J15: 7 | K15: 1 | L15: 8 | M15: 0 | N15: 0 | O15: 0 | R15: 11
B16: 3310102268 | C16: 泉の園 | D16: 岡山市南区浦安本町１９０ | E16: 086-264-2882 | F16: 42 | G16: 42 | H16: 26 | I16: 16 | J16: 37 | K16: 19 | L16: 56 | M16: 0 | N16: 0 | O16: 0 | R16: 12
B17: 3310400274 | C17: 障害者支援施設のぞみ園 | D17: 玉野市木目1461番地 | E17: 0863-71-0110 | F17: 80 | G17: 80 | H17: 46 | I17: 34 | J17: 20 | K17: 2 | L17: 22 | M17: 0 | N17: 0 | O17: 0 | R17: 13
B18: 3312300084 | C18: しずたに | D18: 和気町日笠下1613-5 | E18: 0869-92-1155 | F18: 40 | G18: 40 | H18: 23 | I18: 17 | J18: 23 | K18: 12 | L18: 35 | M18: 0 | N18: 0 | O18: 0 | R18: 14
B19: 3312300142 | C19: 障害者支援施設ぽれぽれ | D19: 和気町小坂1273-7 | E19: 0869-88-9777 | F19: 50 | G19: 49 | H19: 30 | I19: 19 | J19: 2 | K19: 2 | L19: 4 | M19: 0 | N19: 1 | O19: 1 | R19: 15
B20: 3313900148 | C20: 吉備高原総合福祉センター 障害者支援施設 さくら苑 | D20: 吉備中央町吉川7531 | E20: 0866-56-9711 | F20: 40 | G20: 40 | H20: 30 | I20: 10 | J20: 1 | K20: 0 | L20: 1 | M20: 0 | N20: 0 | O20: 0 | R20: 16
... B22: 3313900155 | C22: 障がい者支援施設 吉備高原清和荘 | D22: 吉備中央町北975-1 | E22: 0866-55-6000 | F22: 50 | G22: 49 | H22: 27 | I22: 22 | J22: 33 | K22: 17 | L22: 50 | M22: 1 | N22: 0 | O22: 1 | R22: 17
A23: 小計 | F23: =SUM(F5:F22) -> 870 | G23: =SUM(G5:G22) -> 836 | H23: =SUM(H5:H22) -> 537 | I23: =SUM(I5:I22) -> 299 | J23: =SUM(J5:J22) -> 359 | K23: =SUM(K5:K22) -> 176 | L23: =SUM(L5:L22) -> 535 | M23: =SUM(M5:M22) -> 15 | ... O23: =SUM(O5:O22) -> 25
A25: 倉敷・井笠圏域 | B25: 3310201243 | C25: 障害者支援施設 BBチャレンジャー！ | D25: 倉敷市福田町福田2122-1 | E25: 086-455-8585 | F25: 60 | G25: 49 | H25: 30 | I25: 19 | J25: 0 | K25: 0 | L25: 0 | M25: 6 | N25: 5 | O25: 11
B26: 3310201227 | C26: 障害者支援施設 Ｐ．Ｐ．Ｐ．ＢＢフリーダム！ | D26: 倉敷市福田町福田2122-1 | E26: 086-455-8585 | F26: 60 | G26: 56 | H26: 37 | I26: 19 | J26: 14 | K26: 9 | L26: 23 | O26: 4
B27: 3310201086 | C27: あしたば | D27: 倉敷市山地1730-1 | E27: 086-463-0770 | F27: 50 | G27: 40 | H27: 28 | I27: 12 | J27: 15 | K27: 5 | L27: 20 | M27: 0 | N27: 0 | O27: 0
B28: 3310201359 | C28: 住倉学園 | D28: 倉敷市玉島服部3788-1 | E28: 068-525-2522 | F28: 80 | G28: 80 | H28: 59 | I28: 21 | J28: 3 | K28: 1 | L28: 4 | M28: 0 | N28: 0 | O28: 0
B29: 3310201524 | C29: 瀬戸内学園 | D29: 倉敷市連島町矢柄6092 | E29: 086-448-1811 | F29: 60 | G29: 60 | H29: 30 | I29: 30 | J29: 52 | K29: 21 | L29: 73 | M29: 0 | N29: 0 | O29: 0
B30: 3310201748 | C30: 王慈療護園 | D30: 倉敷市児島下の町2-12-24 | E30: 086-474-9911 | F30: 50 | G30: 48 | H30: 34 | I30: 14 | J30: 36 | K30: 19 | L30: 55 | M30: 0 | N30: 0 | O30: 0
B31: 3310202654 | C31: ベネヴィータ王慈 | D31: 倉敷市児島田の口7-6-39 | E31: 086-477-9501 | F31: 20 | G31: 20 | H31: 11 | I31: 9 | J31: 17 | K31: 11 | L31: 28 | M31: 0 | N31: 0 | O31: 0
B32: 3310500172 | C32: 障害者支援施設 こうのしま荘 | D32: 笠岡市神島3628-3 | E32: 0865-67-6111 | F32: 80 | G32: 80 | H32: 51 | I32: 29 | J32: 16 | K32: 7 | L32: 23 | M32: 0 | N32: 0 | O32: 0
B33: 3310500222 | C33: 障害者支援施設 笠岡学園 | D33: 笠岡市金浦754-1 | E33: 0865-66-0866 | F33: 40 | G33: 40 | H33: 26 | I33: 14 | J33: 26 | K33: 7 | L33: 33 | M33: 0 | N33: 0 | O33: 0
B34: 3310500263 | C34: ときわ | D34: 笠岡市有田1778 | E34: 0865-66-3605 | F34: 40 | G34: 37 | H34: 23 | I34: 14 | J34: 9 | K34: 4 | L34: 13 | M34: 0 | N34: 0 | O34: 0
B35: 3310800309 | C35: 吉備路学園 | D35: 総社市小寺1553番1 | E35: 0866-92-6580 | F35: 50 | G35: 50 | H35: 32 | I35: 18 | J35: 32 | K35: 14 | L35: 46 | M35: 0 | N35: 0 | O35: 0
B36: 3311600104 | C36: あお空 | D36: 浅口市金光町佐方2130 | E36: 0865-42-6306 | F36: 40 | G36: 39 | H36: 20 | I36: 19 | J36: 18 | K36: 10 | L36: 28 | M36: 0 | N36: 0 | O36: 0
A37: 小計 | F37: =SUM(F25:F36) -> 630 | G37: =SUM(G25:G36) -> 599 | H37: =SUM(H25:H36) -> 381 | I37: =SUM(I25:I36) -> 218 | J37: =SUM(J25:J36) -> 238 | K37: =SUM(K25:K36) -> 108 | L37: =SUM(L25:L36) -> 346 | M37: =SUM(M25:M36) -> 6 | ... O37: =SUM(O25:O36) -> 15
A39: 高梁・新見圏域 | B39: 3310900190 | C39: かわかみ療護園 | D39: 高梁市川上町上大竹2051 | E39: 0866-48-3562 | F39: 40 | G39: 36 | H39: 29 | I39: 7 | J39: 6 | K39: 3 | L39: 9 | M39: 2 | N39: 2 | O39: 4
B40: 3310900182 | C40: たかはし松風寮 | D40: 高梁市落合町阿部2528-1 | E40: 0866-22-7102 | F40: 34 | G40: 33 | H40: 23 | I40: 10 | J40: 11 | K40: 2 | L40: 13 | M40: 0 | N40: 0 | O40: 0
B41: 3311000107 | C41: 神郷の園 | D41: 新見市神郷下神代1955 | E41: 0867-92-6311 | F41: 40 | G41: 40 | H41: 24 | I41: 16 | J41: 11 | K41: 5 | L41: 16 | M41: 0 | N41: 0 | O41: 0
B42: 3311000115 | C42: 障害者支援施設 大佐荘 | D42: 新見市大佐田治部3245 | E42: 0867-98-3111 | F42: 60 | G42: 51 | H42: 30 | I42: 21 | J42: 10 | K42: 1 | L42: 11 | O42: 4
B43: 3311000131 | C43: 岡山県健康の森学園障害者支援施設 | D43: 新見市哲多町大野2034-5 | E43: 0867-96-2995 | F43: 35 | G43: 21 | H43: 17 | I43: 4 | J43: 0 | K43: 0 | L43: 0 | M43: 6 | N43: 8 | O43: 14
A44: 小計 | F44: =SUM(F39:F43) -> 209 | G44: =SUM(G39:G43) -> 181 | H44: =SUM(H39:H43) -> 123 | I44: =SUM(I39:I43) -> 58 | J44: =SUM(J39:J43) -> 38 | K44: =SUM(K39:K43) -> 11 | L44: =SUM(L39:L43) -> 49 | M44: =SUM(M39:M43) -> 8 | ... O44: =SUM(O39:O43) -> 22
A46: 真庭圏域 | B46: 3311400190 | C46: 蒜山慶光園 | D46: 真庭市蒜山上福田1201-23 | E46: 0867-66-4060 | F46: 31 | G46: 30 | H46: 17 | I46: 13 | J46: 8 | K46: 0 | L46: 8 | M46: 0 | N46: 0 | O46: 0
B47: 3311400174 | C47: コスモスの園 | D47: 真庭市五名574-1 | E47: 0866-52-4771 | F47: 50 | G47: 50 | H47: 30 | I47: 20 | J47: 17 | K47: 7 | L47: 24 | M47: 0 | N47: 0 | O47: 0
A48: 小計 | F48: =SUM(F46:F47) -> 81 | G48: =SUM(G46:G47) -> 80 | H48: =SUM(H46:H47) -> 47 | I48: =SUM(I46:I47) -> 33 | J48: =SUM(J46:J47) -> 25 | K48: =SUM(K46:K47) -> 7 | L48: =SUM(L46:L47) -> 32 | M48: =SUM(M46:M47) -> 0 | ... O48: =SUM(O46:O47) -> 0
A50: 津山・勝英圏域 | B50: 3310300441 | C50: 津山ひかり学園 ひかりの杜 | D50: 津山市川崎1508 | E50: 0868-26-7523 | F50: 60 | G50: 59 | H50: 36 | I50: 23 | J50: 14 | K50: 7 | L50: 21 | M50: 0 | N50: 0 | O50: 0
B51: 3310300508 | C51: 障害者支援施設 ココロみのり | D51: 津山市二宮999-5 | E51: 0868-28-0522 | F51: 64 | G51: 59 | H51: 31 | I51: 28 | J51: 24 | K51: 17 | L51: 41 | M51: 0 | N51: 0 | O51: 0
B52: 3310300516 | C52: 障害者支援施設 ライフみのり | D52: 津山市二宮999-5 | E52: 0868-28-7833 | F52: 30 | G52: 30 | H52: 26 | I52: 4 | J52: 20 | K52: 11 | L52: 31 | M52: 0 | N52: 0 | O52: 0
B53: 3310300573 | C53: 障がい者支援施設 みすず荘 | D53: 津山市瓜生原326-1 | E53: 0868-26-3118 | F53: 50 | G53: 49 | H53: 33 | I53: 16 | J53: 24 | K53: 26 | L53: 50 | M53: 0 | N53: 0 | O53: 0
B54: 3310300623 | C54: 障害者支援施設 あすなろ園 | D54: 津山市西下1003-1 | E54: 0868-36-3606 | F54: 60 | G54: 52 | H54: 29 | I54: 23 | J54: 6 | K54: 2 | L54: 8 | M54: 2 | N54: 2 | O54: 4
B55: 3313800173 | C55: みさき福祉園 | D55: 久米郡美咲町原田260 | E55: 0868-66-2888 | F55: 50 | G55: 48 | H55: 34 | I55: 14 | J55: 3 | K55: 0 | L55: 3 | M55: 2 | N55: 0 | O55: 2
B56: 3313800165 | C56: 障がい者支援施設 さやかなる苑 | D56: 久米郡美咲町書副182-4 | E56: 0868-64-7003 | F56: 56 | G56: 54 | H56: 29 | I56: 25 | J56: 23 | K56: 17 | L56: 40 | M56: 1 | N56: 2 | O56: 3
B57: 3313800132 | C57: ひかり学園 さつきの丘 | D57: 久米郡美咲町書副182-2 | E57: 0868-64-7535 | F57: 35 | G57: 34 | H57: 23 | I57: 11 | J57: 8 | K57: 4 | L57: 12 | M57: 0 | N57: 0 | O57: 0
A58: 小計 | F58: =SUM(F50:F57) -> 405 | G58: =SUM(G50:G57) -> 385 | H58: =SUM(H50:H57) -> 241 | I58: =SUM(I50:I57) -> 144 | J58: =SUM(J50:J57) -> 122 | K58: =SUM(K50:K57) -> 84 | L58: =SUM(L50:L57) -> 206 | M58: =SUM(M50:M57) -> 5 | ... O58: =SUM(O50:O57) -> 9
A60: 総計 | F60: =F58+F48+F44+F37+F23 -> 2195 | G60: =G58+G48+G44+G37+G23 -> 2081 | H60: =H58+H48+H44+H37+H23 -> 1329 | I60: =I58+I48+I44+I37+I23 -> 752 | J60: =J58+J48+J44+J37+J23 -> 782 | K60: =K58+K48+K44+K37+K23 -> 386 | L60: =L58+L48+L44+L37+L23 -> 1168 | M60: =M58+M48+M44+M37+M23 -> 34 | ... O60: =O58+O48+O44+O37+O23 -> 71
I217: 2

Sheet 生活介護
A1: 障害者総合支援法によるサービス体系 | E1: 生活介護 | H1: =共同生活援助!M1 -> 令和８年９月１日現在
A3: 圏域名 | C3: 事業所名 | D3: 住所 | E3: 電話番号 | F3: 定員 | G3: 初日在籍 | H3: 待機者 | I3: 利用可能者数 | J3: 備考
G4: 計 | H4: 計 | I4: 計
A5: 備前圏域 | B5: 3310101724 | C5: 愛育寮 | D5: 岡山市北区祇園８６６ | E5: 086-275-4644 | F5: 72 | G5: 68 | H5: 0 | I5: 1 | J5: 1以上 | L5: 11
B6: 3310101880 | C6: あおば | D6: 岡山市北区中原664-1先 | E6: 086-275-1626 | F6: 30 | G6: 30 | H6: 0 | I6: 0 | L6: 21
B7: 3310102995 | C7: 旭川学園 | D7: 岡山市北区祇園８６６ | E7: 086-275-4647 | F7: 20 | G7: 20 | H7: 0 | I7: 0 | L7: 13
B8: 3310103001 | C8: 旭川児童院 通園センター | D8: 岡山市北区祇園８６６ | E8: 086-275-1951 | F8: 20 | G8: 39 | H8: 0 | I8: 0 | L8: 14
B9: 3310107242 | C9: あにまるず | D9: 岡山市北区楢津1399番1 | E9: 086-239-8018 | F9: 8 | G9: 9 | H9: 0 | I9: 4 | L9: 17
B10: 3310102276 | C10: いづみ寮 | D10: 岡山市北区中原６６４－１先 | E10: 086-275-1816 | F10: 80 | G10: 73 | H10: 112 | I10: 0 | L10: 22
B11: 3310101856 | C11: エスポアール・スター | D11: 岡山市北区福谷５３番地 | E11: 086-284-8090 | F11: 37 | G11: 40 | H11: 0 | I11: 2 | L11: 26
B12: 3310105899 | C12: おうちだ | D12: 岡山市北区撫川848 | E12: 086-238-1800 | F12: 15 | G12: 21 | H12: 1 | I12: 4 | L12: 25
B13: 3310102383 | C13: ラポールかえで | D13: 岡山市北区平田４０７ | E13: 086-805-3802 | F13: 30 | G13: 28 | H13: 0 | I13: 8 | L13: 31
B14: 3310105477 | C14: 北ふれあいデイサービスセンター | D14: 岡山市北区谷万成二丁目6番33号（北ふれあいセンター2階） | E14: 086-251-6502 | F14: 35 | G14: 2 | H14: 0 | I14: 3 | L14: 20
B15: 3310107580 | C15: ＣＯＲＬＩＡ | D15: 岡山市北区表町3丁目5-19 | E15: 090-9737-5538 | F15: 20 | G15: 6 | H15: 0 | I15: 14 | L15: 8
B16: 3310104488 | C16: ＣＯＭＰＡＳＳアクセス | D16: 岡山市北区高松131-15 | E16: 086-905-0228 | F16: 10 | G16: 17 | H16: 0 | I16: 6 | L16: 18
B17: 3310100726 | C17: 昭和町仲よし | D17: 岡山市北区昭和町６－２６ | E17: 086-214-5103 | F17: 8 | G17: 9 | H17: 0 | I17: 0 | L17: 19
... B21: 3310105527 | C21: 多機能型障害者福祉施設 ＯＮＥＯＮＥ | D21: 岡山市北区下中野323-110 | E21: 086-244-6989 | F21: 10 | G21: 6 | H21: 0 | I21: 0 | L21: 6
B22: 3310108000 | C22: 多機能型事業所 たいどの里 | D22: 岡山県岡山市北区牟佐163-6 | E22: 086-230-5330 | F22: 10
B23: 3310101682 | C23: 竜ノ口寮 | D23: 岡山市北区祇園８６６ | E23: 086-275-3216 | F23: 100 | G23: 85 | H23: 36 | I23: 15 | L23: 10
B24: 3310105790 | C24: つぼみ | D24: 岡山市北区原1058番地1 | E24: 086-230-2737 | F24: 2 | G24: 0 | H24: 0 | I24: 0 | L24: 16
B25: 3310105444 | C25: デイサービス 笠井の里 | D25: 岡山市北区畑鮎117 | E25: 086-228-0725 | F25: 21 | G25: 8 | H25: 1 | I25: 5 | L25: 23
B26: 3310106574 | C26: デイサービスいちばん星 | D26: 岡山市北区旭町94 | E26: 086-230-0210 | F26: 20 | G26: 16 | H26: 0 | I26: 4 | L26: 1
B27: 3310102219 | C27: デイセンターあかしや | D27: 岡山市北区祇園８６６ | E27: 086-275-0711 | F27: 20 | G27: 10 | H27: 0 | I27: 10 | L27: 12
B28: 3312200086 | C28: デイセンターなずな | D28: 岡山市北区玉柏字森木1701-3 | E28: 086-2066277 | F28: 20 | G28: 47 | H28: 0 | I28: 0 | L28: 15
B29: 3310106764 | C29: 中仙道デイサービスセンター | D29: 岡山市北区中仙道一丁目1番43号 | E29: 086-241-1212 | F29: 20 | G29: 34 | H29: 0 | I29: 2 | L29: 27
B30: 3310102367 | C30: のぞみ寮 | D30: 岡山市北区平田４０７ | E30: 086-805-3800 | F30: 45 | G30: 47 | H30: 2 | I30: 0 | L30: 29
B31: 3310104637 | C31: ハッピーデイズ | D31: 岡山市北区撫川439番地5 | E31: 086-903-3001 | F31: 20 | G31: 12 | H31: 0 | I31: 8 | L31: 24
B32: 3310100841 | C32: 障害者支援施設 ももぞの育成園 | D32: 岡山市北区粟井２７８６－２ | E32: 086-299-0623 | F32: 40 | G32: 41 | H32: 29 | I32: 0 | L32: 4
B33: 3310100858 | C33: 障害者支援施設 ももぞの福祉園 | D33: 岡山市北区粟井２７７８－４ | E33: 086-299-0630 | F33: 25 | G33: 26 | H33: 0 | I33: 0 | L33: 3
B34: 3310106293 | C34: 療育センターももっこ | D34: 岡山市北区下足守1627-1 | E34: 086-295-2080 | F34: 15 | G34: 19 | H34: 0 | I34: 0 | L34: 5
... B37: 3310103845 | C37: エスポアール・クワノ | D37: 岡山市中区桑野525番地126 | E37: 086-274-6677 | F37: 20 | G37: 22 | H37: 0 | I37: 0 | L37: 33
B38: 3310107697 | C38: ＯＺデイおかやま東 | D38: 岡山市中区関464-8 | E38: 086-206-1721 | F38: 5 | L38: 41
B39: 3310102649 | C39: 岡星寮 | D39: 岡山市中区原尾島4-17-37 | E39: 086-272-1072 | F39: 40 | G39: 39 | H39: 6 | I39: 1 | L39: 36
B40: 3310105329 | C40: さくらんぼ | D40: 岡山市中区新京橋3-4-25 | E40: 086-941-7312 | F40: 20 | G40: 5 | H40: 0 | I40: 1 | L40: 37
B41: 3310104926 | C41: ジブンワーク | D41: 岡山市中区長岡4-66 | E41: 090-7158-9205 | F41: 6 | G41: 7 | H41: 0 | I41: 13 | L41: 40
B42: 3310101930 | C42: 障害者支援施設 ひゅうまん | D42: 岡山市中区赤坂南新町６番１号 | E42: 086-272-0625 | F42: 48 | G42: 58 | H42: 0 | I42: 0 | L42: 39
B43: 3310106616 | C43: 生活介護うぃ～る | D43: 岡山市中区赤田73-3 | E43: 090-3377-4009 | F43: 20 | G43: 8 | H43: 3 | I43: 9 | L43: 32
B44: 3310105642 | C44: 生活介護ハレルヤ | D44: 岡山市中区原尾島1丁目19-45 | E44: 086-207-2342 | F44: 20 | G44: 34 | H44: 0 | I44: 0 | L44: 35
B45: 3310100817 | C45: 生活介護事業所 桑野フレンドリーハウス | D45: 岡山市中区桑野715-2ふれあいセンター | E45: 086-274-5160 | F45: 40 | G45: 40 | H45: 3 | I45: 0 | L45: 34
B46: 3310106046 | C46: 多機能型事業所みらいえ | D46: 岡山市中区平井一丁目11番3号 | E46: 086-238-7022 | F46: 20 | G46: 6 | H46: 0 | I46: 14 | L46: 46
B47: 3310100809 | C47: デイサービスセンターすまいる | D47: 岡山市中区赤坂南新町6-1 | E47: 086-270-0755 | F47: 30 | G47: 49 | H47: 0 | I47: 0 | L47: 38
B48: 3340100019 | C48: デイサービスセンター皇 | D48: 岡山市中区神下127番地5 | E48: 086-206-3671 | F48: 10 | G48: 3 | H48: 0 | I48: 0 | L48: 42
B49: 3310103159 | C49: 菜の花 | D49: 岡山市中区平井５丁目７番４７－３号 | E49: 086-276-1358 | F49: 20 | G49: 13 | H49: 0 | I49: 7 | L49: 45
B50: 3310108042 | C50: リアン | D50: 岡山市中区平井1丁目12-28 | E50: 086-201-8581 | F50: 20
B51: 3310103829 | C51: わくわく祇園’ｓ | D51: 岡山市中区八幡44-5 | E51: 086-206-7500 | F51: 24 | G51: 29 | H51: 0 | I51: 0 | L51: 43
B52: 3310103068 | C52: あおぞらやまびこ倶楽部 | D52: 岡山市東区君津１４０６番地 | E52: 086-948-0202 | F52: 20 | G52: 27 | H52: 1 | I52: 5 | L52: 49
B53: 3310106541 | C53: colorful space しずたに | D53: 岡山市東区瀬戸町下472-1 | E53: 086-230-5255 | F53: 20 | G53: 16 | H53: 0 | I53: 4 | L53: 47
B54: 3310104538 | C54: さわやか愛の家 さいだいじ館 | D54: 岡山市東区西大寺南2丁目10-17 | E54: 086-944-0311 | F54: 10 | G54: 19 | H54: 0 | I54: 0 | L54: 55
B55: 3312200045 | C55: 閑谷ワークセンター・せと | D55: 岡山市東区瀬戸町肩背43 | E55: 086-952-2271 | F55: 17 | G55: 22 | H55: 0 | I55: 0 | L55: 50
B56: 3310107515 | C56: スマイルらいふ生活介護 | D56: 岡山市東区西大寺東2丁目3-68 | E56: 080-8526-2024 | F56: 20 | L56: 54
B57: 3310107226 | C57: 住倉岡山瀬戸作業所１ | D57: 岡山市東区瀬戸町笹岡826 | E57: 086-230-2220 | F57: 20 | G57: 13 | H57: 0 | I57: 7 | L57: 52
B58: 3310103498 | C58: 生活介護事業所 笑みの集い | D58: 岡山市東区可知1丁目383-5 | E58: 086-207-2015 | F58: 20 | G58: 27 | H58: 0 | I58: 0 | L58: 48
B59: 3310103324 | C59: ドリームネスル | D59: 岡山市東区瀬戸町江尻１３６０－１ | E59: 086-952-9011 | F59: 20 | G59: 24 | H59: 0 | I59: 0 | L59: 51
B60: 3310102268 | C60: 泉の園 | D60: 岡山市南区浦安本町１９０ | E60: 086-264-2882 | F60: 50 | G60: 51 | H60: 46 | I60: 0 | L60: 56
B61: 3310103522 | C61: おかやま共育・共働センターでんでん | D61: 岡山市南区古新田956-1 | E61: 086-250-3755 | F61: 40 | G61: 48 | H61: 0 | I61: 0 | L61: 57
B62: 3310106228 | C62: ＯＺデイおかやま | D62: 岡山市南区若葉町7番31号 | E62: 050-5835-2255 | F62: 5 | L62: 59
B63: 3310107747 | C63: 健リハビリデイサービス | D63: 岡山市南区福富東2-36-15 | E63: 086-250-7994 | F63: 20 | L63: 66
B64: 3310100825 | C64: 障がい者デイセンターさくら | D64: 岡山市南区福富西1-14-29 | E64: 086-261-0047 | F64: 10 | G64: 13 | H64: 0 | I64: 0 | L64: 65
B65: 3310107366 | C65: 生活介護 アノンド | D65: 岡山市南区福吉町23-5 | E65: 080-8037-7574 | F65: 20 | L65: 67
B66: 3310104918 | C66: 生活介護事業所 ホウメイ | D66: 岡山市南区当新田379番地18 | E66: 086-250-9230 | F66: 20 | G66: 11 | H66: 0 | I66: 9 | L66: 62
B67: 3310106152 | C67: 多機能型障害者福祉施設おひさまＰＬＵＳ三浜事業所 | D67: 岡山市南区三浜町2丁目18-24 | E67: 086-250-3684 | F67: 10 | G67: 12 | H67: 1 | I67: 3 | J67: 2～3 | L67: 58
B68: 3310107804 | C68: 多機能事業所 クラシヲ | D68: 岡山市南区新保1609-13 | E68: 086-250-1161 | F68: 10 | G68: 13 | H68: 0 | I68: 0 | L68: 60
B69: 3310106954 | C69: デイサービス はなはな | D69: 岡山市南区新保654番地13 | E69: 086-250-5506 | F69: 7 | G69: 6 | H69: 0 | I69: 0 | L69: 61
B70: 3310104041 | C70: デイハウスかりん | D70: 岡山市南区藤田1543 | E70: 086-296-5050 | F70: 20 | G70: 23 | H70: 0 | I70: 2 | L70: 63
B71: 3310103431 | C71: ひまわりケアステーション | D71: 岡山市南区藤田564-134 | E71: 086-259-3335 | F71: 20 | G71: 22 | H71: 0 | I71: 0 | L71: 64
B72: 3310400209 | C72: グレイス・のぞみ | D72: 玉野市木目1461 | E72: 0863-71-0110 | F72: 25 | G72: 19 | H72: 0 | I72: 6 | L72: 72
B73: 3310400274 | C73: 障害者支援施設のぞみ園 | D73: 玉野市木目1461番地 | E73: 0863-71-0110 | F73: 80 | G73: 80 | H73: 22 | I73: 0 | L73: 73
B74: 3310400308 | C74: 玉野スマイルタウン ケアセンターひばり | D74: 玉野市田井６丁目8-1 | E74: 0863-31-9711 | F74: 30 | G74: 48 | H74: 3 | I74: 1 | L74: 70
B75: 3310400530 | C75: なないろ | D75: 玉野市山田919-1 | E75: 0863-41-3811 | F75: 6 | G75: 5 | H75: 0 | I75: 1 | L75: 69
B76: 3310400472 | C76: ばべの森 | D76: 玉野市八浜町波知186 | E76: 0863-23-4177 | F76: 10 | G76: 3 | H76: 0 | I76: 7 | L76: 71
B77: 3310400555 | C77: ルネサンス | D77: 玉野市八浜町八浜1330-20 | E77: 0863-51-3721 | F77: 20 | G77: 11 | H77: 0 | I77: 9 | L77: 68
B78: 3311100162 | C78: いんべ通園センター | D78: 備前市伊部９７４－１２ | E78: 0869-63-6001 | F78: 20 | G78: 25 | H78: 0 | I78: 0 | L78: 74
B79: 3311100287 | C79: 閑谷ワークセンター・ひなせ | D79: 備前市日生町日生803-1 | E79: 0869-72-9808 | F79: 20 | G79: 19 | H79: 0 | I79: 0 | L79: 76
... B82: 3311200079 | C82: せとうち 旭川荘 | D82: 瀬戸内市牛窓町長浜4982-1 | E82: 0869-34-6606 | F82: 16 | G82: 27 | H82: 0 | I82: 2 | L82: 78
B83: 3311200244 | C83: まごのて村デイサービス「さくら庵」 | D83: 瀬戸内市邑久町箕輪656番地１ | E83: 0869-22-5321 | F83: 25 | L83: 80
B84: 3311300267 | C84: あんだんて | D84: 赤磐市東窪田86-１ | E84: 086-957-3350 | F84: 20 | G84: 16 | H84: 0 | I84: 9 | L84: 85
B85: 3311300119 | C85: 閑谷ワークセンター・あかいわ | D85: 赤磐市桜ヶ丘西３－２１－１４ | E85: 086-958-5315 | F85: 30 | G85: 36 | H85: 0 | I85: 0 | L85: 81
B86: 3311300333 | C86: デイサービスセンターともに あかいわ | D86: 赤磐市日古木766-1 | E86: 086-958-5360 | F86: 19 | L86: 82
B87: 3311300317 | C87: デイサービス亀池荘 | D87: 赤磐市穂崎888－1 | E87: 086-229-9300 | F87: 30 | G87: 3 | H87: 0 | I87: 10 | L87: 86
B88: 3311300242 | C88: デイセンターなずな赤磐 | D88: 赤磐市町苅田２７番地 | E88: 086-957-3880 | F88: 20 | G88: 39 | H88: 0 | I88: 0 | L88: 84
B89: 3311300135 | C89: ワークス太陽の家 | D89: 赤磐市西中２２９－１ | E89: 086-955-8884 | F89: 10 | G89: 10 | H89: 0 | I89: 1 | L89: 83
B90: 3312300076 | C90: 閑谷ワークセンター・わけ | D90: 和気町益原681-1 | E90: 0869-93-2446 | F90: 8 | G90: 9 | H90: 0 | I90: 0 | L90: 87
B91: 3312300084 | C91: しずたに | D91: 和気町日笠下1613-5 | E91: 0869-92-1155 | F91: 60 | G91: 57 | H91: 35 | I91: 3 | L91: 88
B92: 3312300142 | C92: 障害者支援施設ぽれぽれ | D92: 和気町小坂1273-7 | E92: 0869-88-9777 | F92: 50 | G92: 49 | H92: 4 | I92: 1 | L92: 89
B93: 3312300167 | C93: 藤工房 | D93: 和気町藤野1025番地2 | E93: 0869-93-3898 | F93: 32 | G93: 36 | H93: 0 | I93: 0 | L93: 90
B94: 3313900148 | C94: 吉備高原総合福祉センター 障害者支援施設 さくら苑 | D94: 吉備中央町吉川7531 | E94: 0866-56-9711 | F94: 40 | G94: 40 | H94: 1 | I94: 0 | L94: 91
B95: 3313900189 | C95: 吉備の里たんぽぽ | D95: 吉備中央町上野２３２０－１１ | E95: 0866-56-8200 | F95: 20 | G95: 19 | H95: 0 | I95: 3 | L95: 93
B96: 3313900155 | C96: 障がい者支援施設 吉備高原清和荘 | D96: 吉備中央町北975-1 | E96: 0866-55-6000 | F96: 55 | G96: 67 | H96: 0 | I96: 2 | L96: 92
A97: 小計 | F97: =SUM(F5:F96) -> 2272 | G97: =SUM(G5:G96) -> 2138 | H97: =SUM(H5:H96) -> 379 | I97: =SUM(I5:I96) -> 239
A99: 倉敷・井笠圏域 | B99: 3310203991 | C99: みどり荘デイサービスセンター | D99: 倉敷市神田2-3-3 | E99: 086-448-7545 | F99: 30 | G99: 1 | H99: 0 | I99: 0
B100: 3310203272 | C100: WE | D100: 倉敷市児島元浜町2765 | E100: 086-436-7723 | F100: 10 | G100: 9 | H100: 0 | I100: 2 | J100: 曜日によって2～3人利用可能
B101: 3310204080 | C101: 倉敷市障がい者デイサービスセンター | D101: 倉敷市笹沖170 | E101: 086-434-9855 | F101: 20 | G101: 45 | H101: 0 | I101: 5
B102: 3310202902 | C102: わきあいあい | D102: 倉敷市庄新町9-3-6 | E102: 086-461-0015 | F102: 20 | G102: 23 | H102: 0 | I102: 2
B103: 3310203314 | C103: ワークハウス住倉・八島 | D103: 倉敷市玉島八島866-1 | E103: 086-525-3000 | F103: 20 | G103: 22 | H103: 0 | I103: 0
B104: 3310204056 | C104: 共生型看護小規模多機能ホーム ohanaサテライト上成 | D104: 倉敷市玉島上成652-4 | E104: 086-436-7671 | F104: 12 | G104: 0 | H104: 0 | I104: 0
B105: 3310203298 | C105: アビリティ共生デイ | D105: 倉敷市玉島乙島7190-5 | E105: 086-441-5252 | F105: 40 | G105: 20 | H105: 0 | I105: 20
B106: 3310203306 | C106: 共生型看護小規模多機能ホーム桃の鈴花 | D106: 倉敷市玉島乙島7190-5 | E106: 086-441-5211 | F106: 29 | G106: 0 | H106: 0 | I106: 0
B107: 3310203264 | C107: デイサービスとんがりぼうし | D107: 倉敷市玉島柏島687-1 | E107: 086-525-6862 | F107: 10 | G107: 5 | H107: 1 | I107: 3
B108: 3310203249 | C108: スリーピース | D108: 倉敷市連島町西之浦5827-3 | E108: 086-486-3328 | F108: 20 | G108: 24 | H108: 3 | I108: 0
B109: 3310204593 | C109: 共生型看護小規模多機能ホーム ハスティ蓮花 | D109: 岡山県倉敷市連島町鶴新田2922 | E109: 086-522-0066 | F109: 18 | G109: 0 | H109: 0 | I109: 0
...

Sheet 自立訓練（機能）
A1: 障害者総合支援法によるサービス体系 | E1: 自立訓練（機能訓練） | I1: =共同生活援助!M1 -> 令和８年９月１日現在
A3: 圏域名 | C3: 事業所名 | D3: 住所 | E3: 電話番号 | F3: 定員 | G3: 初日在籍 | H3: 待機者 | I3: 利用可能者数 | J3: 備考
G4: 計 | H4: 計 | I4: 計
A5: 備前圏域 | B5: 3311100337 | C5: のぞみ寮 | D5: 岡山市北区平田４０７番地 | E5: 086-805-3800 | F5: 6 | G5: 0 | H5: 0 | I5: 6
B6: 3310102367 | C6: 草加病院 | D6: 備前市西片上1122 | E6: 0869-64-3811 | F6: 40 | G6: 3 | H6: 0 | I6: 37
A7: 小計 | F7: =SUM(F5:F6) -> 46 | G7: =SUM(G5:G6) -> 3 | H7: =SUM(H5:H6) -> 0 | I7: =SUM(I5:I6) -> 43
A9: 倉敷・井笠圏域 | B9: 3311600229 | C9: 共生型自立訓練（機能訓練）事業所 いるかの家リハビリテーションセンター | D9: 浅口市寄島町16089-16 | E9: 0865-54-2001 | F9: 50 | G9: 10 | H9: 0 | I9: 20
A10: 小計 | F10: =SUM(F9) -> 50 | G10: =SUM(G9) -> 10 | H10: =SUM(H9) -> 0 | I10: =SUM(I9) -> 20
A12: 総計 | F12: =F7+F10 -> 96 | G12: =G7+G10 -> 13 | H12: =H7+H10 -> 0 | I12: =I7+I10 -> 63
I224: 2

Sheet 自立訓練（生活）
A1: 障害者総合支援法によるサービス体系 | E1: 自立訓練（生活訓練） | I1: =共同生活援助!M1 -> 令和８年９月１日現在
A3: 圏域名 | C3: 事業所名 | D3: 住所 | E3: 電話番号 | F3: 定員 | G3: 初日在籍 | H3: 待機者 | I3: 利用可能者数 | J3: 備考
G4: 計 | H4: 計 | I4: 計
A5: 備前圏域 | B5: 3310105493 | C5: アクセスジョブ岡山南中央町 | D5: 岡山市北区南中央町12-3 レガリアイン１F | E5: 086-801-7807 | F5: 7 | G5: 2 | H5: 0 | I5: 3 | L5: 4
B6: 3310106517 | C6: ウェルビーチャレンジ岡山駅東口センター | D6: 岡山市北区本町6-30 第一セントラルビル2号館5階 | E6: 086-230-0672 | F6: 20 | G6: 22 | H6: 4 | I6: 5 | L6: 2
B7: 3310105592 | C7: 視覚障碍者多機能型事業所 みずのわ | D7: 岡山市北区西古松136-7 | E7: 086-230-0374 | F7: 6 | G7: 6 | H7: 0 | I7: 0 | L7: 7
B8: 3310104934 | C8: ＳＭＩＬＥくろーばー | D8: 岡山市北区野田屋町1丁目6番20号 せとうちビル2 3階4階 | E8: 086-237-3244 | F8: 10 | G8: 8 | H8: 0 | I8: 2 | L8: 8
B9: 3310105576 | C9: 多機能型事業所 きら星 | D9: 岡山市北区伊福町1丁目14-11 | E9: 086-214-2828 | F9: 10 | G9: 6 | H9: 0 | I9: 4 | J9: R8.4.1休止 | L9: 5
B10: 3310103746 | C10: 多機能型事業所 スピカ | D10: 岡山市北区伊福町二丁目6-1 スピカビル | E10: 086-250-6262 | F10: 6 | G10: 12 | H10: 0 | I10: 0 | L10: 6
B11: 3310106111 | C11: 多機能型事業所 つむぎ | D11: 岡山市北区田町2-1-3 B－HOUSE 4階 | E11: 086-235-1188 | F11: 8 | G11: 8 | H11: 0 | I11: 1 | L11: 1
B12: 3310107325 | C12: リワークセンター岡山 | D12: 岡山市北区本町6番30号 第一セントラルビル2号館5階 | E12: 086-206-7855 | F12: 20 | G12: 10 | H12: 2 | I12: 8 | L12: 3
B13: 3310104793 | C13: ハートスイッチ東岡山校 | D13: 岡山県岡山市中区関437-1 | E13: 086-208-6300 | F13: 6 | G13: 7 | H13: 0 | I13: 3 | L13: 9
B14: 3310104330 | C14: カレッジ旭川荘 | D14: 岡山市東区西大寺浜609 | E14: 086-944-6920 | F14: 20 | G14: 16 | H14: 0 | I14: 4 | L14: 10
B15: 3310106590 | C15: 多機能型事業所のあ 岡山 | D15: 岡山市東区西大寺中2丁目8-15 | E15: 086-201-6410 | F15: 10 | G15: 11 | H15: 0 | I15: 2 | L15: 11
B16: 3310107804 | C16: クラシヲ | D16: 岡山市南区新保1609-13 | E16: 086-250-1161 | F16: 10 | G16: 10 | H16: 0 | I16: 0 | L16: 12
B17: 3310104512 | C17: ハートスイッチ岡山南校 | D17: 岡山県岡山市南区西市96-4 | E17: 086-246-1700 | F17: 6 | G17: 7 | H17: 0 | I17: 1 | L17: 13
B18: 3310400407 | C18: Ｌｉｔｔｌｅ Ｐｌｕｓ | D18: 玉野市宇野7-24-1 | E18: 0863-23-4020 | F18: 20 | G18: 10 | H18: 0 | I18: 10 | L18: 14
B19: 3311100055 | C19: ユートピア | D19: 備前市西片上193-1 | E19: 0869-63-4329 | F19: 6 | G19: 4 | H19: 0 | I19: 4 | L19: 15
B20: 3313900114 | C20: 吉備の里なでしこ | D20: 吉備中央町上野2320-12 | E20: 0866-56-8216 | F20: 20 | G20: 10 | H20: 0 | I20: 10 | L20: 16
A21: 小計 | F21: =SUM(F5:F20) -> 185 | G21: =SUM(G5:G20) -> 149 | H21: =SUM(H5:H20) -> 6 | I21: =SUM(I5:I20) -> 57
A23: 倉敷・井笠圏域 | B23: 3310201722 | C23: 倉敷市ふじ園 | D23: 倉敷市有城710 | E23: 086-429-1393 | F23: 15 | G23: 6 | H23: 0 | I23: 9
B24: 3310203199 | C24: 多機能・共生型事業体くらしきピアぽーと | D24: 倉敷市上富井88番地 | E24: 086-441-9822 | F24: 7 | G24: 9 | H24: 0 | I24: 10
B25: 3310204007 | C25: あんだんて | D25: 倉敷市東富井803-9 | E25: 086-486-1071 | F25: 6 | G25: 0 | H25: 0 | I25: 0
B26: 3310202910 | C26: 倉人（くらんど） | D26: 倉敷市連島町西之浦5096 | E26: 086-436-6567 | F26: 12 | G26: 4 | H26: 0 | I26: 6
B27: 3310204130 | C27: ｉｒｏｄｏｒｉ ＢＡＳＥ | D27: 倉敷市中畝10丁目336-5 | E27: 086-486-5656 | F27: 10 | G27: 13 | H27: 0 | I27: 2
B28: 3310204551 | C28: 自立訓練事業所おとのみ | D28: 岡山県倉敷市中庄3524-1 | E28: 086-454-9192 | F28: 20 | G28: 10 | H28: 0 | I28: 10
B29: 3310203801 | C29: 多機能事業所のあ 倉敷 | D29: 倉敷市水島北瑞穂町9-7 | E29: 086-436-7255 | F29: 10 | G29: 7 | H29: 0 | I29: 1
B30: 3310204601 | C30: 多機能型事業所楽しみ空間 | D30: 岡山県倉敷市宮前712番地5 | E30: 086-425-5300 | F30: 20 | G30: 0 | H30: 1 | I30: 10
B31: 3310800614 | C31: のあ総社 | D31: 総社市中央6丁目12-106 | E31: 070-5079-2622 | F31: 10 | G31: 9 | H31: 0 | I31: 1
A32: 小計 | F32: =SUM(F23:F29) -> 80 | G32: =SUM(G23:G29) -> 49 | H32: =SUM(H23:H29) -> 0 | I32: =SUM(I23:I31) -> 49
A34: 高梁・新見圏域 | B34: 3311000131 | C34: 岡山県健康の森学園障害者支援施設 | D34: 新見市哲多町大野2034-5 | E34: 0867-96-2995 | F34: 12 | G34: 7 | H34: 0 | I34: 5
A35: 小計 | F35: =SUM(F34) -> 12 | G35: =SUM(G34) -> 7 | H35: =SUM(H34) -> 0 | I35: =SUM(I34) -> 5
A37: 総計 | F37: =F35+F32+F21 -> 277 | G37: =G35+G32+G21 -> 205 | H37: =H35+H32+H21 -> 6 | I37: =I35+I32+I21 -> 111
I226: 2

Sheet 宿泊型自立訓練
A1: 障害者総合支援法によるサービス体系 | E1: 宿泊型自立訓練 | N1: =共同生活援助!M1 -> 令和８年９月１日現在
A3: 圏域名 | B3: 事業所番号 | C3: 事業所名 | D3: 住所 | E3: 電話番号 | F3: 定員 | H3: 在籍 | K3: 待機者 | N3: 利用可能者数 | P3: 備考
G4: 初日在籍 | H4: 男 | I4: 女 | J4: 男 | K4: 女 | L4: 計 | M4: 男 | N4: 女 | O4: 計
A5: 備前圏域 | B5: 3310102953 | C5: 多機能型事業所ひまわり | D5: 岡山市北区谷万成１－６－１ | E5: 086-252-9890 | F5: 19 | G5: 10 | H5: 6 | I5: 4 | J5: 1 | K5: 0 | L5: 1 | M5: 4 | N5: 4 | O5: 8
B6: 3310107804 | C6: クラシヲ | D6: 岡山市南区新保1609-13 | E6: 086-250-1161 | F6: 15 | G6: 11 | H6: 7 | I6: 4 | J6: 0 | K6: 0 | L6: 2 | M6: 0 | N6: 0 | O6: 0
B7: 3313900130 | C7: 吉備の里つばき寮 | D7: 吉備中央町上野２４７０－７ | E7: 0866-56-8404 | F7: 20 | G7: 13 | H7: 11 | I7: 2 | J7: 0 | K7: 0 | L7: 0 | M7: 4 | N7: 3 | O7: 7
A8: 小計 | F8: =SUM(F5:F7) -> 54 | G8: =SUM(G5:G7) -> 34 | H8: =SUM(H5:H7) -> 24 | I8: =SUM(I5:I7) -> 10 | J8: =SUM(J5:J7) -> 1 | K8: =SUM(K5:K7) -> 0 | L8: =SUM(L5:L7) -> 3 | M8: =SUM(M5:M7) -> 8 | ... O8: =SUM(O5:O7) -> 15
A10: 合計 | F10: =SUM(F5:F7) -> 54 | G10: =SUM(G5:G7) -> 34 | H10: =SUM(H5:H7) -> 24 | I10: =SUM(I5:I7) -> 10 | J10: =SUM(J5:J7) -> 1 | K10: =SUM(K5:K7) -> 0 | L10: =SUM(L5:L7) -> 3 | M10: =SUM(M5:M7) -> 8 | ... O10: =SUM(O5:O7) -> 15
I220: 2

Sheet 就労移行
A1: 障害者総合支援法によるサービス体系 | E1: 就労移行支援 | I1: =共同生活援助!M1 -> 令和８年９月１日現在
A3: 圏域名 | C3: 事業所名 | D3: 住 所 | E3: 電話番号 | F3: 定員 | G3: 初日在籍 | H3: 待機者 | I3: 利用可能者数 | J3: 備考
G4: 計 | H4: 計 | I4: 計
A5: 備前圏域 | B5: 3310105493 | C5: アクセスジョブ岡山南中央町 | D5: 岡山市北区南中央町12-3 レガリアイン1Ｆ | E5: 086-801-7807 | F5: 13 | G5: 8 | H5: 0 | I5: 5 | L5: 7
B6: 3310103928 | C6: ウェルビー岡山駅前センター | D6: 岡山市北区本町6-36 第一セントラルビル3階 | E6: 086-201-4004 | F6: 20 | G6: 32 | H6: 0 | I6: 2 | L6: 9
B7: 3310105451 | C7: ウェルビー岡山駅前第２センター | D7: 岡山市北区本町1番2号 炭屋ビル3階 | E7: 086-201-5135 | F7: 20 | G7: 27 | H7: 0 | I7: 5 | L7: 8
B8: 3310106970 | C8: カラーズ・ラボ岡山 | D8: 岡山市北区野田二丁目4-1 シティーセンタービル 1階 | E8: 086-259-1920 | F8: 20 | G8: 8 | H8: 0 | I8: 12 | L8: 19
B9: 3310105188 | C9: キャプラ・ウィッシュ・リクリエ | D9: 岡山市北区今8丁目14-13ベスグロビル2階 | E9: 086-230-6270 | F9: 12 | G9: 12 | H9: 0 | I9: 6 | L9: 2
B10: 3310105055 | C10: サンソレイユ | D10: 岡山市北区田中145-101 | E10: 086-805-3611 | F10: 12 | G10: 8 | H10: 0 | I10: 4 | L10: 5
B11: 3310104124 | C11: 就労移行支援事業所 オカヤマエール | D11: 岡山市北区天瀬2-21 | E11: 086-206-1682 | F11: 20 | G11: 20 | H11: 0 | I11: 5 | L11: 4
B12: 3310106111 | C12: 就労移行支援事業所 つむぎ | D12: 岡山市北区田町二丁目1番3号Ｂ‐ＨＯＵＳＥ 4階 | E12: 086-235-1188 | F12: 12 | G12: 10 | H12: 1 | I12: 4 | L12: 6
B13: 3310103647 | C13: 就労移行支援センターフリーデザイン岡山 | D13: 岡山市北区奉還町3-15-8奉還町第一ビル105 | E13: 086-214-3351 | F13: 20 | G13: 13 | H13: 1 | I13: 16 | L13: 18
B14: 3310101955 | C14: ステップハウス わ！ | D14: 岡山市北区表町１－４－６４ | E14: 086-222-8686 | F14: 6 | G14: 3 | H14: 0 | I14: 4 | L14: 17
B15: 3310104934 | C15: ＳＭＩＬＥくろーばー | D15: 岡山市北区野田屋町1丁目6番20号 せとうちビル2 4階 | E15: 086-805-3804 | F15: 10 | G15: 4 | H15: 0 | I15: 6 | L15: 12
B16: 3310105519 | C16: 多機能型事業所アート＆ジョブセンター | D16: 岡山市北区柳町1-4-8ヒカリホールディングビル208号 | E16: 086-230-2881 | F16: 15 | G16: 8 | H16: 3 | I16: 6 | L16: 14
B17: 3310101906 | C17: 多機能型事業所 あすなろ | D17: 岡山市北区表町3-7-27 | E17: 086-273-9692 | F17: 20 | G17: 34 | H17: 3 | I17: 4 | L17: 16
... B19: 3310103654 | C19: ハートスイッチ岡山校 | D19: 岡山市北区本町6番36号 第一セントラルビル5階 | E19: 086-212-1100 | F19: 20 | G19: 17 | H19: 0 | I19: 2 | L19: 10
B20: 廃止 | C20: フロンティアリンク岡山キャリアセンター | D20: 岡山市北区野田二丁目4-1 シティーセンタービル 1階 | E20: 086-259-1920 | F20: 20 | G20: 13 | H20: 0 | I20: 7 | L20: 3
B21: 廃止 | C21: フロンティアリンク岡山キャリアセンター | D21: 岡山市北区野田二丁目4-1シティーセンタービル1階 | E21: 086-259-1920 | F21: 20 | G21: 15 | H21: 0 | I21: 5 | L21: 13
B22: 3310104215 | C22: ＬＩＴＡＬＩＣＯワークス岡山 | D22: 岡山市北区野田屋町1-7-17 千代田生命岡山ビル５Ｆ | E22: 086-236-1420 | F22: 20 | G22: 30 | H22: 3 | I22: 5 | L22: 11
B23: 3310105881 | C23: ＬＩＴＡＬＩＣＯワークス岡山駅南 | D23: 岡山市北区柳町1丁目1番1号 住友生命岡山ビル1階 | E23: 086-226-4524 | F23: 20 | G23: 29 | H23: 3 | I23: 5 | L23: 15
B24: 3310104793 | C24: ハートスイッチ東岡山校 | D24: 岡山市中区関437-1 | E24: 086-208-6300 | F24: 14 | G24: 16 | H24: 0 | I24: 3 | L24: 20
B25: 3310104330 | C25: カレッジ旭川荘 | D25: 岡山市東区西大寺浜609 | E25: 086-944-6920 | F25: 15 | G25: 16 | H25: 0 | I25: 0 | L25: 22
B26: 3312200045 | C26: 閑谷ワークセンター・せと | D26: 岡山市東区瀬戸町肩脊43 | E26: 086-952-2271 | F26: 6 | G26: 3 | H26: 0 | I26: 3 | L26: 21
B27: 3310104587 | C27: ＤＲＥＡＭＥＲ | D27: 岡山市南区新福1-22-6 | E27: 086-368-3186 | F27: 10 | G27: 20 | H27: 1 | I27: 4 | L27: 24
B28: 3310104512 | C28: ハートスイッチ岡山南校 | D28: 岡山市南区西市96-4 | E28: 086-246-1700 | F28: 14 | G28: 17 | H28: 0 | I28: 2 | L28: 23
B29: 3313900114 | C29: 吉備の里なでしこ | D29: 吉備中央町上野2320-12 | E29: 0866-56-7779 | F29: 20 | G29: 10 | H29: 0 | I29: 10 | L29: 25
A30: 小計 | F30: =SUM(F5:F29) -> 393 | G30: =SUM(G5:G29) -> 387 | H30: =SUM(H5:H29) -> 15 | I30: =SUM(I5:I29) -> 125
A32: 倉敷・井笠圏域 | B32: 3310203884 | C32: ウェルビー倉敷駅前センター | D32: 倉敷市阿知1丁目7-2倉敷シティプラザ西ビル２F 212 | E32: 086-441-7338 | F32: 20 | G32: 29 | H32: 0 | I32: 3
B33: 3310204262 | C33: ＬＩＴＡＬＩＣＯワークス倉敷 | D33: 倉敷市阿知1-7-2 くらしきシティプラザ西ビル2Ｆ213-1 | E33: 086-435-5232 | F33: 20 | G33: 34 | H33: 1 | I33: 4
B34: 3310202209 | C34: ハートスイッチ倉敷校 | D34: 倉敷市阿知１-7-2 702-1号室 | E34: 086-435-5400 | F34: 20 | G34: 18 | H34: 0 | I34: 3
B35: 3310204049 | C35: ディーキャリア 倉敷オフィス | D35: 倉敷市寿町8-13 | E35: 086-486-1031 | F35: 20 | G35: 9 | H35: 0 | I35: 11
B36: 3310204007 | C36: あんだんて | D36: 倉敷市東富井803-9 | E36: 086-486-1071 | F36: 6 | G36: 0 | H36: 0 | I36: 0 | J36: R6.3休止
B37: 3310202712 | C37: 就労移行支援事業所 ｉｒｏｄｏｒｉ | D37: 倉敷市水島西栄町1-25 | E37: 086-486-4562 | F37: 10 | G37: 14 | H37: 0 | I37: 5
B38: 3310202639 | C38: 就労移行支援事業所えくすぺ | D38: 倉敷市中庄3523-1 | E38: 086-454-9192 | F38: 20 | G38: 25 | H38: 0 | I38: 5
B39: 3310202936 | C39: 多機能型事業所 あんだす | D39: 倉敷市中庄3524-1 | E39: 086-454-4606 | F39: 11 | G39: 20 | H39: 0 | I39: 2
B40: 3310203587 | C40: Ｐ．Ｐ．Ｐ．ファイター！ | D40: 倉敷市福田町古新田1007番地6 | E40: 086-441-3056 | F40: 20 | G40: 2 | H40: 0 | I40: 8
B41: 3310201722 | C41: 倉敷市ふじ園 | D41: 倉敷市有城710 | E41: 086-429-1393 | F41: 15 | G41: 5 | H41: 0 | I41: 10
B42: 3310500446 | C42: 多機能事業所 ＨａｐｐｙＣｏｍｅＣｏｍｅ | D42: 笠岡市中央町１９－１０ | E42: 070-8338-4425 | F42: 6 | G42: 0 | H42: 0 | I42: 5
A43: 小計 | F43: =SUM(F32:F42) -> 168 | G43: =SUM(G32:G41) -> 156 | H43: =SUM(H32:H41) -> 1 | I43: =SUM(I32:I41) -> 51
A45: 高梁・新見圏域 | B45: 3310900174 | C45: たいようの丘 多機能型事業所 虹 | D45: 高梁市落合町阿部２１５４番地の１ | E45: 0866-22-1532 | F45: 6 | G45: 0 | H45: 0 | I45: 0 | J45: R6.4休止
B46: 3311000131 | C46: 岡山県健康の森学園障害者支援施設 | D46: 新見市哲多町大野2034-5 | E46: 0867-96-2995 | F46: 10 | G46: 10 | H46: 0 | I46: 0
A47: 小計 | F47: =SUM(F45:F46) -> 16 | G47: =SUM(G45:G46) -> 10 | H47: =SUM(H45:H46) -> 0 | I47: =SUM(I45:I46) -> 0
A49: 津山・勝英圏域 | B49: 3310300094 | C49: 社会就労センター さくらワークヒルズ | D49: 津山市勝部５６３ | E49: 0868-31-3221 | F49: 6 | G49: 4 | H49: 0 | I49: 2
B50: 3310300961 | C50: GONJOB | D50: 津山市山下18-2 52ビル山下1階 | E50: 0868-20-1098 | F50: 14 | G50: 23 | H50: 5 | I50: 0
A51: 小計 | F51: =SUM(F49:F50) -> 20 | G51: =SUM(G49:G50) -> 27 | H51: =SUM(H49:H50) -> 5 | I51: =SUM(I49:I50) -> 2
A53: 総計 | F53: =F30+F43+F47+F51 -> 597 | G53: =G30+G43+G47+G51 -> 580 | H53: =H30+H43+H47+H51 -> 21 | I53: =I30+I43+I47+I51 -> 178
I223: 2

Sheet 就労継続Ａ
A1: 障害者総合支援法によるサービス体系 | E1: 就労継続支援Ａ型 | I1: =共同生活援助!M1 -> 令和８年９月１日現在
A3: 圏域名 | C3: 事業所名 | D3: 住所 | E3: 電話番号 | F3: 定員 | G3: 初日在籍 | H3: 待機者 | I3: 利用可能者数 | J3: 備考
G4: 計 | H4: 計 | I4: 計
A5: 備前圏域 | B5: 3310103548 | C5: ありがとうファーム | D5: 岡山市北区表町二丁目7番27号 | E5: 086-953-4446 | F5: 20 | G5: 40 | H5: 0 | I5: 5 | L5: 18
B6: 3310104280 | C6: エース | D6: 岡山市北区御津金川339-8 | E6: 0867-24-5185 | F6: 19 | G6: 1 | H6: 0 | I6: 27 | L6: 4
B7: 3310102508 | C7: おあしす | D7: 岡山市北区東古松１－１－２８ | E7: 086-206-1100 | F7: 20 | G7: 26 | H7: 0 | I7: 0 | K7: R8.10.1修正 | L7: 17
B8: 3310103415 | C8: きぼう | D8: 岡山市北区青江五丁目17番27号 | E8: 086-206-1992 | F8: 20 | G8: 28 | H8: 0 | I8: 0 | L8: 11
B9: 3310102169 | C9: クリーンメイト | D9: 岡山市北区広瀬町１０－９ | E9: 086-223-1181 | F9: 20 | G9: 17 | H9: 0 | I9: 3 | L9: 7
B10: 3310105170 | C10: サスケ・アカデミー岡山 | D10: 岡山市北区本町10-22 本町ビル5F | E10: 086-238-8661 | F10: 10 | G10: 42 | H10: 1 | I10: 2 | L10: 1
B11: 3310102680 | C11: サニー | D11: 岡山市北区富田５２２－６ | E11: 086-237-6600 | F11: 20 | G11: 39 | H11: 0 | I11: 0 | L11: 19
B12: 3310102631 | C12: サンクルール今事業所 | D12: 岡山市北区今8-6-14 | E12: 086-246-7016 | F12: 30 | G12: 27 | H12: 0 | I12: 3 | L12: 8
B13: 3310103050 | C13: 就労センターもも | D13: 岡山市北区下足守1784-6 | E13: 086-299-0621 | F13: 10 | G13: 11 | H13: 0 | I13: 0 | L13: 3
B14: 3310102128 | C14: しょうが屋 | D14: 岡山市北区大供1-2-25 | E14: 086-224-7576 | F14: 20 | G14: 8 | H14: 0 | I14: 0 | L14: 13
B15: 3310103662 | C15: 西部仲よし | D15: 岡山市北区野殿西町428-2 | E15: 086-214-2650 | F15: 17 | G15: 17 | H15: 0 | I15: 0 | L15: 21
B16: 3310107101 | C16: ソアーレ | D16: 岡山市北区本町3-6 桃太郎プラザ401 | E16: 086-206-4070 | F16: 20 | G16: 32 | H16: 0 | I16: 8 | L16: 2
B17: 3310105998 | C17: たからさがし | D17: 岡山市北区御津高津120番地12 | E17: 086-724-5003 | F17: 10 | G17: 32 | H17: 0 | I17: 0 | L17: 5
B18: 3310105519 | C18: 多機能型事業所アート＆ジョブセンター | D18: 岡山市北区柳町1-4-8ヒカリホールディングビル208号 | E18: 086-230-2881 | F18: 15 | G18: 16 | H18: 0 | I18: 0 | L18: 22
B19: 3310102904 | C19: トモニー・きずな 平田 | D19: 岡山市北区平田４０７ | E19: 086-243-4838 | F19: 10 | G19: 6 | H19: 0 | I19: 4 | L19: 20
... B25: 3310107465 | C25: 両備アグリウェルネス 錦町事業所 | D25: 岡山市北区錦町7番23号 | E25: 086-201-0224 | F25: 20 | G25: 9 | H25: 0 | I25: 11 | L25: 12
B26: 3310107705 | C26: ＪＡＦＬＯ岡山 | D26: 岡山市中区江並58番地17 | E26: 086-806-5381 | F26: 10 | L26: 25
B27: 3310106012 | C27: 就労支援ワークス長岡 | D27: 岡山市中区長岡87番地3 | E27: 086-206-7815 | F27: 15 | G27: 10 | H27: 0 | I27: 5 | L27: 27
B28: 3310101948 | C28: トモニー・きずな 旭川 | D28: 岡山市中区高島新屋敷515-14 | E28: 086-275-6759 | F28: 30 | G28: 27 | H28: 0 | I28: 3 | L28: 23
B29: 3310103597 | C29: 菜のはな | D29: 岡山市東区古都宿1番1号 | E29: 086-201-7087 | F29: 10 | G29: 10 | H29: 0 | I29: 10 | L29: 26
B30: 3310102672 | C30: 杜の家ファーム | D30: 岡山市中区兼基１０７－２ | E30: 086-279-0068 | F30: 20 | G30: 18 | H30: 0 | I30: 2 | L30: 24
B31: 3310102110 | C31: ＲＣＦ | D31: 岡山市東区草ケ部1346番地1 | E31: 086-297-5864 | F31: 20 | G31: 11 | H31: 0 | I31: 19 | L31: 32
B32: 3310102664 | C32: ＮＰＯ法人けしごやま 希望 | D32: 岡山市東区松新町51-1 | E32: 086-942-3444 | F32: 20 | G32: 29 | H32: 0 | I32: 0 | L32: 29
B33: 3310103233 | C33: クリエイトおひさま | D33: 岡山市東区西大寺東２－１－５０ | E33: 086-201-4123 | F33: 20 | G33: 19 | H33: 1 | I33: 11 | L33: 31
B34: 3310102177 | C34: 西大寺仲よし | D34: 岡山市東区西大寺中２－１６－３３ | E34: 086-942-1770 | F34: 18 | G34: 18 | H34: 0 | I34: 0 | L34: 30
B35: 3310102003 | C35: ドリーム プラネット | D35: 岡山市東区草ヶ部惣利458-1 | E35: 086-239-4447 | F35: 20 | G35: 7 | H35: 0 | I35: 13 | L35: 33
B36: 3310101971 | C36: マルキュー | D36: 岡山市東区九蟠989-2 | E36: 086-948-4309 | F36: 20 | G36: 28 | H36: 0 | I36: 0 | L36: 28
B37: 3310105402 | C37: ＫＡＥＲＵ | D37: 岡山市南区藤田566-126 | E37: 086-238-0730 | F37: 10 | G37: 8 | H37: 0 | I37: 0 | L37: 43
B38: 3310102862 | C38: カリス | D38: 岡山市南区青江６丁目２番３７号 | E38: 086-201-8118 | F38: 20 | G38: 10 | H38: 0 | I38: 0 | L38: 41
... B60: 3313900171 | C60: せのお農園 | D60: 吉備中央町上竹１６３８ | E60: 080-1930-1387 | F60: 15 | G60: 7 | H60: 0 | I60: 8 | L60: 55
A61: 小計 | F61: =SUM(F5:F60) -> 987 | G61: =SUM(G5:G60) -> 928 | H61: =SUM(H5:H60) -> 4 | I61: =SUM(I5:I60) -> 265
A63: 倉敷・井笠圏域 | B63: 3310202217 | C63: 手作り工房まこと | D63: 倉敷市青江839-7 | E63: 086-486-2204 | F63: 10 | G63: 35 | H63: 0 | I63: 0
B64: 3310202274 | C64: お菓子工房まこと | D64: 倉敷市中庄3138-9 | E64: 070-2171-0220 | F64: 10 | G64: 9 | H64: 0 | I64: 0
B65: 3310202407 | C65: おるてっく | D65: 倉敷市玉島阿賀崎5－5－1 | E65: 086-526-8043 | F65: 20 | G65: 4 | H65: 0 | I65: 16
B66: 3310202928 | C66: じあい | D66: 倉敷市玉島3-12-14 | E66: 086-454-7117 | F66: 10 | G66: 5 | H66: 0 | I66: 4
B67: 3310202001 | C67: ハーモニー | D67: 倉敷市児島味野2-2-43 | E67: 086-474-2181 | F67: 20 | G67: 15 | H67: 0 | I67: 5
B68: 3310201664 | C68: アクレス早島 | D68: 倉敷市松島1148-3 船越ビル2F北号事務所 | E68: 086-464-6088 | F68: 20 | G68: 17 | H68: 0 | I68: 3
B69: 3310202308 | C69: しんくら | D69: 倉敷市新倉敷駅前3-73-3 | E69: 086-486-2181 | F69: 20 | G69: 20 | H69: 0 | I69: 3
B70: 3310202373 | C70: みんな農園 | D70: 倉敷市真備町川辺1412 | E70: 086-698-2387 | F70: 20 | G70: 17 | H70: 0 | I70: 9
B71: 3310202282 | C71: ドリーム | D71: 倉敷市真備町川辺526-1 | E71: 086-441-9028 | F71: 20 | G71: 17 | H71: 0 | I71: 3
B72: 3310202779 | C72: ワークハウス住倉・服部 | D72: 倉敷市真備町服部1850-5 | E72: 086-698-7700 | F72: 10 | G72: 11 | H72: 0 | I72: 0
B73: 3310202225 | C73: グリーンハウス水島 | D73: 倉敷市水島北緑町3-5 | E73: 086-441-3555 | F73: 20 | G73: 12 | H73: 0 | I73: 8
B74: 3310201672 | C74: 倉敷就労支援センター いろえんぴつ | D74: 倉敷市西中新田632-1 | E74: 086-427-3378 | F74: 10 | G74: 10 | H74: 0 | I74: 5
B75: 3310202878 | C75: みずほ中庄事業所 | D75: 倉敷市中庄82-3 | E75: 086-441-4317 | F75: 20 | G75: 15 | H75: 0 | I75: 5
... B90: 3311600179 | C90: すまいる | D90: 浅口市鴨方町小坂東282-2 | E90: 0865-45-8585 | F90: 10 | G90: 8 | H90: 0 | I90: 2
A91: 小計 | F91: =SUM(F63:F90) -> 460 | G91: =SUM(G63:G90) -> 436 | H91: =SUM(H63:H90) -> 1 | I91: =SUM(I63:I90) -> 95
A93: 高梁・新見圏域 | B93: 3310900232 | C93: やまなみ | D93: 高梁市中原町1472-3 | E93: 0866-21-2320 | F93: 20 | G93: 30 | H93: 0 | I93: 0
A94: 小計 | F94: =SUM(F93:F93) -> 20 | G94: =SUM(G93:G93) -> 30 | H94: =SUM(H93:H93) -> 0 | I94: =SUM(I93:I93) -> 0
A96: 真庭圏域 | B96: 3311400158 | C96: デイセンターまにわ | D96: 真庭市下市瀬６５３ | E96: 0867-52-7371 | F96: 10 | G96: 6 | H96: 0 | I96: 6
B97: 3311400315 | C97: サラメシ本舗 | D97: 真庭市落合垂水729-2 | E97: 0867-52-8563 | F97: 15 | G97: 17 | H97: 0 | I97: 0
A98: 小計 | F98: =SUM(F96:F97) -> 25 | G98: =SUM(G96:G97) -> 23 | H98: =SUM(H96:H97) -> 0 | I98: =SUM(I96:I97) -> 6
A100: 津山・勝英圏域 | B100: 3310300805 | C100: 青空ワークス | D100: 津山市国分寺９８８－１ | E100: 0868-20-1477 | F100: 10 | G100: 16 | H100: 0 | I100: 2
B101: 3310300870 | C101: トラストワークス Ａ型事業所 | D101: 津山市二宮６４０ | E101: 0868-28-1717 | F101: 20 | G101: 13 | H101: 0 | I101: 7
B102: 3311500098 | C102: スタート・ワーキング・サポート | D102: 美作市楢原下904-14 | E102: 0868-72-2115 | F102: 40 | G102: 43 | H102: 0 | I102: 0
B103: 3313800207 | C103: ももっ子くめなん | D103: 久米郡久米南町下弓削492 | E103: 086-275-8333 | F103: 20 | G103: 12 | H103: 0 | I103: 8
A104: 小計 | F104: =SUM(F100:F103) -> 90 | G104: =SUM(G100:G103) -> 84 | H104: =SUM(H100:H103) -> 0 | I104: =SUM(I100:I103) -> 17
A106: 総計 | F106: =F104+F98+F94+F91+F61 -> 1582 | G106: =G104+G98+G94+G91+G61 -> 1501 | H106: =H104+H98+H94+H91+H61 -> 5 | I106: =I104+I98+I94+I91+I61 -> 383
I174: 2

Sheet 就労継続B
A1: 障害者総合支援法によるサービス体系 | E1: 就労継続支援B型 | I1: =共同生活援助!M1 -> 令和８年９月１日現在
A3: 圏域名 | C3: 事業所名 | D3: 住所 | E3: 電話番号 | F3: 定員 | G3: 初日在籍 | H3: 待機者 | I3: 利用可能者数 | J3: 備考
G4: 計 | H4: 計 | I4: 計
A5: 備前圏域 | B5: 3310106657 | C5: アイ・ライフワーク | D5: 岡山市北区西古松2丁目12-20 | E5: 086-250-2431 | F5: 20 | G5: 25 | H5: 0 | I5: 5 | L5: 37
B6: 3310106996 | C6: あいのね | D6: 岡山市北区牟佐900番地10 | E6: 086-238-9470 | F6: 20 | G6: 11 | H6: 0 | I6: 9 | L6: 58
B7: 3310106798 | C7: あいびー岡山 | D7: 岡山市北区北長瀬表町2丁目17番80号 | E7: 086-486-4400 | F7: 20 | G7: 13 | H7: 0 | I7: 7 | L7: 30
B8: 3310104496 | C8: あいぷらす | D8: 岡山市北区天神町6-44 | E8: 086-206-4678 | F8: 20 | G8: 18 | H8: 2 | I8: 2 | L8: 41
B9: 3310107812 | C9: あいぷらす 東古松 | D9: 岡山市北区東古松五丁目1番4号 コーポＮＫ | E9: 086-206-4678 | F9: 20 | L9: 44
B10: 3310106525 | C10: アイル | D10: 岡山市北区青江1丁目6-26 | E10: 086-805-3804 | F10: 20 | G10: 22 | H10: 0 | I10: 0 | L10: 6
B11: 3310101880 | C11: あおば | D11: 岡山市北区中原664番地1先 | E11: 086-275-1626 | F11: 26 | G11: 27 | H11: 0 | I11: 0 | L11: 40
B12: 3310101922 | C12: 青葉作業所 | D12: 岡山市北区丸の内一丁目２番１２号 | E12: 086-234-2530 | F12: 20 | G12: 8 | H12: 0 | I12: 6 | L12: 25
B13: 3310104694 | C13: アショ・ボショ | D13: 岡山市北区鹿田町1-8-10 第5三信ビル 102 | E13: 086-238-6260 | F13: 20 | G13: 31 | H13: 0 | I13: 0 | L13: 31
B14: 3310107242 | C14: あにまるず | D14: 岡山市北区楢津1399番1 | E14: 086-239-8017 | F14: 12 | G14: 10 | H14: 0 | I14: 7 | L14: 48
B15: 3310103548 | C15: ありがとうファーム | D15: 岡山市北区表町三丁目7番5号 | E15: 086-953-4446 | F15: 15 | G15: 29 | H15: 0 | I15: 3 | L15: 4
B16: 3310106210 | C16: ＡＮＴワークス | D16: 岡山市北区撫川1327-3 | E16: 086-259-1881 | F16: 20 | G16: 21 | H16: 0 | I16: 9 | L16: 50
B17: 3310106665 | C17: イロハジョブセンター | D17: 岡山市北区西古松1-28-22 | E17: 086-245-0168 | F17: 20 | G17: 13 | H17: 0 | I17: 7 | L17: 36
B18: 3310102060 | C18: うらら | D18: 岡山市北区富町２－７－３０ | E18: 086-255-4060 | F18: 20 | G18: 22 | H18: 0 | I18: 1 | L18: 46
B19: 3310104280 | C19: エース | D19: 岡山市北区横井上105 | E19: 086-236-8108 | F19: 20 | G19: 21 | H19: 0 | I19: 9 | L19: 20
B20: 3310107986 | C20: エイドワークス岡山店 | D20: 岡山市北区吉備津1208-20-1 | E20: 086-230-6431 | F20: 20 | G20: 6 | I20: 6
B21: 3310101849 | C21: エスポアール・セルプ | D21: 岡山市北区福谷53番地 | E21: 086-284-8004 | F21: 35 | G21: 35 | H21: 0 | I21: 2 | L21: 51
B22: 3310108018 | C22: 笑凪 | D22: 岡山市北区宿231-2 | E22: 090-8400-3777 | F22: 20
B23: 3310107879 | C23: おとなり | D23: 岡山市北区大元上町14-18 | E23: 090-9227-9515 | F23: 20 | L23: 45
B24: 3310107044 | C24: おはな | D24: 岡山市北区表町一丁目9－53 | E24: 080-2911-4882 | F24: 20 | G24: 8 | H24: 0 | I24: 15 | L24: 3
B25: 3310106681 | C25: カモノハシ | D25: 岡山市北区楢津294番地12 | E25: 086-239-7817 | F25: 20 | G25: 33 | H25: 2 | I25: 2 | L25: 49
B26: 3310101674 | C26: 吉備ワークホーム | D26: 岡山市北区祇園８６６ | E26: 086-275-2486 | F26: 40 | G26: 47 | H26: 0 | I26: 2 | L26: 26
B27: 3310107762 | C27: キャリカク岡山 | D27: 岡山県岡山市北区下石井1丁目1番1号 アーバンオフィスビル401号 | E27: 086-201-3422 | F27: 20 | L27: 22
B28: 3310108026 | C28: コスモス岡山 | D28: 岡山県岡山市北区岡南町一丁目2-6 | E28: 086-238-6115 | F28: 20
B29: 3310106756 | C29: こだま | D29: 岡山市北区奉還町2-4-13 | E29: 086-252-7555 | F29: 20 | G29: 19 | H29: 0 | I29: 3 | L29: 55
B30: 3310107382 | C30: さうざんど | D30: 岡山市北区西之町12-4 | E30: 086-244-0888 | F30: 20 | G30: 9 | H30: 0 | I30: 11 | L30: 12
B31: 3310105592 | C31: 視覚障碍者多機能型事業所 みずのわ | D31: 岡山市北区西古松136-7 | E31: 086-230-0374 | F31: 14 | G31: 8 | H31: 0 | I31: 2 | L31: 35
B32: 3310107069 | C32: 就労継続B型事業所 恵那 | D32: 岡山市北区奥田西町16-11 | E32: 086-206-3252 | F32: 20 | G32: 23 | L32: 5
B33: 3310107887 | C33: 就労継続支援Ｂ型事業所 エンターテインメントアカデミー でじるみ岡山駅前 | D33: 岡山市北区駅元町22-13 西口駅前ビル2F北 | E33: 086-250-8463 | F33: 20 | L33: 19
B34: 3310104843 | C34: 就労継続支援Ｂ型事業所カーザ | D34: 岡山市北区駅元町13-25 | E34: 086-728-0363 | F34: 20 | G34: 21 | H34: 0 | I34: 11 | L34: 18
B35: 3310107119 | C35: 就労継続支援Ｂ型事業所グリーンデイズ | D35: 岡山市北区清輝橋4丁目4-32 101号 | E35: 090-6419-8972 | F35: 20 | G35: 9 | H35: 0 | I35: 11 | L35: 34
B36: 3310107952 | C36: 就労継続支援Ｂ型みらいえ | D36: 岡山市北区青江4丁目12-16（4丁目12-17） | E36: 090-7379-4282 | F36: 20 | G36: 9 | I36: 11
B37: 3310105873 | C37: ジョーマ | D37: 岡山市北区大供1-5-2 | E37: 086-221-1380 | F37: 20 | G37: 13 | H37: 0 | I37: 20 | L37: 11
B38: 3310100858 | C38: 障害者支援施設 ももぞの福祉園 | D38: 岡山市北区粟井2778-4 | E38: 086-299-0630 | F38: 20 | G38: 17 | H38: 0 | I38: 0 | L38: 16
B39: 3310100726 | C39: 昭和町 仲よし | D39: 岡山市北区昭和町6-26 | E39: 086-214-5103 | F39: 32 | G39: 35 | H39: 0 | I39: 0 | L39: 9
B40: 3310101955 | C40: ステップハウス わ！ | D40: 岡山市北区表町1-4-64 | E40: 086-222-8686 | F40: 14 | G40: 17 | H40: 0 | I40: 0 | L40: 1
B41: 3310103688 | C41: スマイルワーク | D41: 岡山市北区野田3-13-37 | E41: 086-244-7070 | F41: 20 | G41: 11 | H41: 0 | I41: 14 | L41: 15
B42: 3310102854 | C42: スローカフェタンポポ | D42: 岡山市北区奉還町２丁目４番１７号 | E42: 086-253-8878 | F42: 20 | G42: 28 | H42: 0 | I42: 2 | L42: 54
B43: 3310107234 | C43: 多機能型事業所 あいりすけ | D43: 岡山市北区中井町1丁目1-12 | E43: 086-230-1822 | F43: 10 | G43: 18 | H43: 0 | I43: 8 | L43: 47
B44: 3310108000 | C44: 多機能型事業所 たいどの里 | D44: 岡山市北区牟佐163-6 | E44: 086-230-5330 | F44: 10
B45: 3310102953 | C45: 多機能型事業所ひまわり | D45: 岡山市北区谷万成1-6-1 | E45: 086-252-9890 | F45: 20 | G45: 19 | H45: 0 | I45: 10 | L45: 38
B46: 3310105527 | C46: 多機能型障害者福祉施設 ＯＮＥＯＮＥ | D46: 岡山市北区下中野323-110 | E46: 086-244-6989 | F46: 10 | G46: 9 | H46: 0 | I46: 0 | L46: 24
B47: 3310100742 | C47: 中央 仲よし（清輝橋） | D47: 岡山市北区清輝橋3-8-20 | E47: 086-226-0130 | F47: 20 | G47: 16 | H47: 0 | I47: 4 | L47: 33
B48: 3310102482 | C48: つだか風の谷 | D48: 岡山市北区横井上1926 | E48: 086-294-8500 | F48: 20 | G48: 20 | H48: 0 | I48: 0 | L48: 21
B49: 3310102904 | C49: トモニー・きずな 平田 | D49: 岡山市北区平田407 | E49: 086-243-4838 | F49: 10 | G49: 8 | H49: 0 | I49: 2 | L49: 52
B50: 3310106285 | C50: にじげん大元 | D50: 岡山市北区上中野1丁目19番45号101号室 | E50: 086-250-6466 | F50: 20 | G50: 17 | H50: 2 | I50: 1 | L50: 32
B51: 3310105915 | C51: 虹のはし | D51: 岡山市北区牟佐1085番地18 | E51: 086-230-5333 | F51: 20 | G51: 15 | H51: 0 | I51: 5 | L51: 57
B52: 3310104439 | C52: 晴れの国 | D52: 岡山市北区磨屋町6－11－1 第一きく井ビル 2F 201 | E52: 080-4263-2007 | F52: 20 | G52: 22 | H52: 0 | I52: 3 | L52: 56
B53: 3310104108 | C53: ひまわり笑顔かぞく | D53: 岡山市北区大供1-2-23 あかつきビル104 | E53: 086-239-0930 | F53: 10 | G53: 4 | H53: 0 | I53: 11 | L53: 10
B54: 3310102573 | C54: ふぁみりお | D54: 岡山市北区下中野246-4 | E54: 086-259-1086 | F54: 30 | G54: 48 | H54: 0 | I54: 5 | L54: 23
B55: 3310104645 | C55: ふくしあ就労継続支援Ｂ型建部事業所 | D55: 岡山市北区建部町建部上320-1 | E55: 086-722-5180 | F55: 20 | G55: 11 | H55: 1 | I55: 8 | L55: 27
B56: 3310105394 | C56: フレンズハウス | D56: 岡山市北区青江５－１－１２ | E56: 086-206-7433 | F56: 20 | G56: 10 | H56: 1 | I56: 9 | L56: 7
B57: 3310106582 | C57: ホップ・ワン | D57: 岡山市北区神田町一丁目9-46 | E57: 086-238-8726 | F57: 20 | G57: 18 | H57: 0 | I57: 3 | L57: 13
B58: 3310103217 | C58: ポプラの家 | D58: 岡山市北区東古松二丁目２番４号 | E58: 086-231-3977 | F58: 20 | G58: 19 | H58: 0 | I58: 0 | L58: 43 | M58: ポプラの会
B59: 3310107358 | C59: ホワイトベース | D59: 岡山市北区表町２－７－３２ 第２サカエビル２F | E59: 086-230-0020 | F59: 20 | G59: 18 | H59: 0 | I59: 5 | L59: 2
B60: 3310102102 | C60: みつば会 | D60: 岡山市北区昭和町14-12 | E60: 086-254-6986 | F60: 20 | G60: 8 | H60: 0 | I60: 12 | L60: 8
B61: 3310106814 | C61: メリーピース | D61: 岡山市北区今3-1-45 | E61: 086-250-5200 | F61: 20 | G61: 19 | H61: 0 | I61: 21 | L61: 29
B62: 3310103092 | C62: ももっ子おかやま | D62: 岡山市北区中原45-1 | E62: 086-275-8333 | F62: 10 | G62: 10 | H62: 0 | I62: 0 | L62: 39
B63: 3310104967 | C63: 森の会（おいかぜ） | D63: 岡山市北区下伊福2-7-18 | E63: 086-259-0167 | F63: 20 | G63: 6 | H63: 0 | I63: 0 | L63: 14
B64: 3310102516 | C64: ゆうあいファミリーあい | D64: 岡山市北区東古松１丁目6-13 | E64: 086-231-2867 | F64: 20 | G64: 23 | H64: 0 | I64: 0 | L64: 42
B65: 3310107895 | C65: よりそいワーク | D65: 岡山市北区御津町宇垣1867-15 | E65: 086-803-5282 | F65: 20 | L65: 59
B66: 3310102383 | C66: ラポールかえで | D66: 岡山市北区平田407番地 | E66: 086-805-3802 | F66: 10 | G66: 8 | H66: 0 | I66: 2 | L66: 53
B67: 3310102656 | C67: ワークランド虹 | D67: 岡山市北区今1-7-25 | E67: 086-250-8951 | F67: 50 | G67: 41 | H67: 0 | I67: 9 | L67: 28
B68: 3310102565 | C68: わくわくワーク | D68: 岡山市北区一宮339-6 | E68: 086-286-0951 | F68: 36 | G68: 33 | H68: 0 | I68: 0 | L68: 17
B69: 3310107598 | C69: アイル倉田 | D69: 岡山市中区倉田537番地5 | E69: 086-237-8426 | F69: 20 | G69: 9 | I69: 11 | L69: 62
B70: 3310105964 | C70: Cafe' hanの木 | D70: 岡山市中区東山二丁目14-14 | E70: 086-230-1294 | F70: 20 | G70: 12 | H70: 1 | I70: 7 | L70: 83
B71: 3310106129 | C71: 喜楽 | D71: 岡山市中区さい3-4 | E71: 086-207-6003 | F71: 20 | G71: 28 | H71: 0 | I71: 7 | L71: 67
B72: 3310107218 | C72: グランブリエ | D72: 岡山市中区神下551番地1 | E72: 086-230-1880 | F72: 20 | G72: 12 | H72: 0 | I72: 8 | L72: 65
B73: 3310106780 | C73: クロスファーム東岡山 | D73: 岡山市中区長岡148-3 | E73: 080-2928-6647 | F73: 20 | G73: 43 | H73: 0 | I73: 0 | L73: 80
B74: 3310102912 | C74: 桑野ワークプラザ | D74: 岡山市中区桑野７１５－２ 岡山ふれあいセンター内 | E74: 086-274-5160 | F74: 20 | G74: 20 | H74: 8 | I74: 0 | L74: 71
B75: 3310106475 | C75: コノハ | D75: 岡山市中区八幡145番地1 | E75: 080-1643-0226 | F75: 20 | G75: 20 | H75: 0 | I75: 5 | L75: 66
B76: 3310106160 | C76: こむぎ | D76: 岡山市中区桜橋2丁目17-12 | E76: 086-442-9399 | F76: 20 | G76: 6 | H76: 0 | I76: 0 | L76: 73
B77: 3310106095 | C77: 作業所てんとう虫 | D77: 岡山市中区古京町1丁目5-8 | E77: 086-201-1561 | F77: 20 | G77: 13 | H77: 0 | I77: 7 | L77: 72
B78: 3310107143 | C78: さくらもち | D78: 岡山市中区新京橋一丁目4番8号 | E78: 086-270-5050 | F78: 20 | G78: 8 | H78: 0 | I78: 12 | L78: 75
B79: 3310105329 | C79: さくらんぼ | D79: 岡山市中区新京橋3-4-25 | E79: 086-941-7312 | F79: 20 | G79: 26 | L79: 74
B80: 3310106749 | C80: さすてなワーク 高島 | D80: 岡山市中区藤原光町三丁目14番2号 | E80: 086-230-2688 | F80: 20 | G80: 4 | H80: 0 | I80: 20 | L80: 82
B81: 3310104926 | C81: ジブンワーク | D81: 岡山市中区長岡4-66 | E81: 090-7158-9205 | F81: 14 | G81: 27 | H81: 0 | I81: 11 | L81: 78
B82: 3310107622 | C82: 就労継続支援Ｂ型事業所 八方良 | D82: 岡山市中区桑野116-1 | E82: 086-276-7996 | F82: 20 | G82: 19 | H82: 0 | I82: 1 | L82: 70
B83: 3310106731 | C83: 就労継続支援B型事業所RITA | D83: 岡山市中区乙多見279-3 | E83: 080-8950-1095 | F83: 20 | G83: 12 | H83: 0 | I83: 3 | L83: 81
B84: 3310107523 | C84: 就労継続支援Ｂ型事業所ＲＩＴＡ海吉 | D84: 岡山市中区海吉1752-8 | E84: 086-201-6977 | F84: 20 | G84: 25 | I84: 3 | L84: 91
B85: 3310106558 | C85: 就労継続支援B型事業所RUCO | D85: 岡山市中区兼基360-26 | E85: 086-230-2465 | F85: 20 | G85: 22 | H85: 0 | I85: 5 | L85: 63
B86: 3310104066 | C86: しんせきんち（まちづかい塾） | D86: 岡山市中区藤崎25 | E86: 086-277-7677 | F86: 20 | G86: 13 | H86: 0 | I86: 7 | L86: 86
B87: 3310106566 | C87: スマイルユー | D87: 岡山市中区平井１丁目12-28 | E87: 086-206-2517 | F87: 20 | G87: 24 | H87: 2 | I87: 0 | L87: 60
B88: 3310107960 | C88: せのおや農園 | D88: 岡山市中区倉益39番地 | E88: 086-276-4984 | F88: 20
B89: 3310104892 | C89: 多機能型事業所いち・にのさん | D89: 岡山市中区平井6-7-28 | E89: 086-273-5090 | F89: 8 | G89: 19 | H89: 0 | I89: 0 | L89: 61
B90: 3310101948 | C90: トモニー・きずな 旭川 | D90: 岡山市中区高島新屋敷515-14 | E90: 086-275-0075 | F90: 10 | G90: 9 | I90: 1 | L90: 92
B91: 3310103597 | C91: 菜のはな | D91: 岡山市中区神下171 | E91: 086-201-7087 | F91: 10 | G91: 6 | H91: 0 | I91: 4 | L91: 64
B92: 3310107432 | C92: 福重 | D92: 岡山市中区沢田145-1 | E92: 086-273-2910 | F92: 20 | L92: 89
B93: 3310104363 | C93: みち工房 | D93: 岡山市中区浜３丁目５－１ | E93: 086-270-1663 | F93: 20 | G93: 20 | H93: 0 | I93: 0 | L93: 87
B94: 3310104165 | C94: ＭＯＭＯ | D94: 岡山市中区浜４７５－５ | E94: 086-273-9692 | F94: 20 | G94: 40 | H94: 1 | I94: 0 | L94: 88
B95: 3310103571 | C95: リープ | D95: 岡山市中区山崎226-11 | E95: 086-250-4646 | F95: 10 | G95: 3 | H95: 0 | I95: 5 | L95: 69
B96: 3310106640 | C96: リハスタイルぐんぐん | D96: 岡山市中区長岡25-3 | E96: 086-279-3306 | F96: 15 | G96: 15 | H96: 0 | I96: 4 | L96: 79
B97: 3310106145 | C97: ワークおまち | D97: 岡山市中区雄町9-1 アスカビル2階 | E97: 080-3055-0650 | F97: 20 | G97: 10 | H97: 0 | I97: 10 | L97: 90
B98: 3310102342 | C98: ワークショップちどり | D98: 岡山市中区赤坂本町１－２ | E98: 086-264-2882 | F98: 20 | G98: 22 | L98: 77
B99: 3310106491 | C99: ワークハウス 皇 | D99: 岡山市中区清水1丁目6-27オーランド清水1F | E99: 086-206-3911 | F99: 20 | G99: 15 | H99: 0 | I99: 5 | L99: 76
B100: 3310100874 | C100: ワークハウス・わくわく！ | D100: 岡山市中区東川原1-1 | E100: 086-206-7385 | F100: 20 | G100: 30 | H100: 0 | I100: 7 | L100: 84
B101: 3310106913 | C101: わん73 | D101: 岡山市中区さい155-9 | E101: 086-238-6530 | F101: 20 | G101: 39 | H101: 0 | I101: 3 | L101: 68
...
