Workbook

Sheet 取材申込書
A2: 岡山県航空企画推進課 枝松宛 | F2: 報道機関関係
A3: ＭＡＩＬ：koku@pref.okayama.lg.jp
A7: 岡山－東京（羽田）線搭乗者へのノベルティグッズ配布 取材申込書
A10: １ 取材者名簿
A11: ・連絡先は会社の代表電話番号、住所は会社の所在地で構いません。
A12: ・行が足りない場合は適宜増やしてください。
A13: 会社名 | B13: 連絡先 | C13: 氏名 | D13: 年齢 | E13: 住所 | F13: 取材希望場所
F14: 到着便 | G14: 出発便※
A18: ※出発便の取材には、セキュリティチェックが必要になります。本紙のご提出に加え、別紙「危険物等所持制限区域に搬入する「持込禁止品」承認申請書」及び「写真一覧」のご提出もお願いいたします。
A22: ２ 提出期限
A23: 上記に記入の上、10月22日（木）中にご提出ください。
A26: ３ 注意事項
A27: ・取材は、必ず自社腕章を着け、所属を明らかにして行ってください。
A28: ・取材は、利用客及び従業員の支障にならないよう配慮ください。
A29: ・空港利用客等を撮影する場合は、許可を得て行ってください。

Sheet 様式
J5: 報道機関関係
A7: 危険物等所持制限区域に搬入する「持込禁止品」承認申請書
A9: 番号 | B9: 名 称 | F9: 数量 | I9: 確認者印
A11: 1 | B11: =取材申込書!$A$15 -> 0 | D11: 脚立 | G11: 1
A12: =A11+1 -> 2 | B12: =取材申込書!$A$15 -> 0 | D12: 脚立 | G12: 1
A13: 3 | B13: =取材申込書!$A$15 -> 0 | D13: カメラ | G13: 1
A14: =A13+1 -> 4 | B14: =取材申込書!$A$15 -> 0 | D14: カメラ用三脚 | G14: 1
A15: 5 | B15: =取材申込書!$A$15 -> 0 | D15: ハンドマイク | G15: 1
A16: =A15+1 -> 6 | B16: =取材申込書!$A$15 -> 0 | D16: 音声ケーブル | G16: 1
A17: 7 | B17: =取材申込書!$A$15 -> 0 | D17: ビデオカメラ | G17: 1
A18: =A17+1 -> 8 | B18: =取材申込書!$A$15 -> 0 | D18: ＥＮＧカメラ | G18: 1
A19: 9 | B19: =取材申込書!$A$15 -> 0 | D19: ガンマイク | G19: 1
A20: =A19+1 -> 10 | B20: =取材申込書!$A$15 -> 0 | D20: バッテリー | G20: 1
A21: 11 | B21: =取材申込書!$A$15 -> 0 | D21: 脚立 | G21: 1
A22: =A21+1 -> 12 | B22: =取材申込書!$A$15 -> 0 | D22: ビデオカメラ | G22: 1
A23: 13 | B23: =取材申込書!$A$15 -> 0 | D23: ガンマイクセット | G23: 1
A24: 14 | B24: =取材申込書!$A$15 -> 0 | D24: 三脚 | G24: 1
A25: 15 | B25: =取材申込書!$A$15 -> 0 | D25: バッテリー（160ｗｈ以下） | G25: 3
A26: 16 | B26: =取材申込書!$A$15 -> 0 | D26: 手持ちカメラ | G26: 1
A27: 17 | B27: =取材申込書!$A$15 -> 0 | D27: 三脚 | G27: 1
A28: 18 | B28: =取材申込書!$A$15 -> 0 | D28: ガンマイク | G28: 1
A29: 19 | B29: =取材申込書!$A$15 -> 0 | D29: カメラ | G29: 1
A30: 20 | B30: =取材申込書!$A$15 -> 0
A31: ※持込禁止品の写真一覧を添付すること。（「写真一覧」シートをご参照ください。）

Sheet 写真一覧
A1: 10月25日 (日)
A2: 持込禁止品の写真一覧
A3: =様式!D11 -> 脚立 | B3: =様式!D12 -> 脚立
A5: =様式!D13 -> カメラ | B5: =様式!D14 -> カメラ用三脚
A7: =様式!D15 -> ハンドマイク | B7: =様式!D16 -> 音声ケーブル
A9: =様式!D17 -> ビデオカメラ | B9: =様式!D18 -> ＥＮＧカメラ
A11: =様式!D19 -> ガンマイク | B11: =様式!D20 -> バッテリー
A13: =様式!D21 -> 脚立 | B13: =様式!D22 -> ビデオカメラ
A15: =様式!D23 -> ガンマイクセット | B15: =様式!D24 -> 三脚
A17: =様式!D25 -> バッテリー（160ｗｈ以下） | B17: =様式!D26 -> 手持ちカメラ
A19: =様式!D27 -> 三脚 | B19: =様式!D28 -> ガンマイク
A21: =様式!D29 -> カメラ | B21: =様式!D31 -> 0
